BEGIN:VCALENDAR
VERSION:2.0
PRODID:-//ChamberMaster//Event Calendar 2.0//EN
METHOD:PUBLISH
X-PUBLISHED-TTL:P3D
REFRESH-INTERVAL:P3D
CALSCALE:GREGORIAN
BEGIN:VEVENT
DTSTART:20130808T220000Z
DTEND:20130809T000000Z
X-MICROSOFT-CDO-ALLDAYEVENT:FALSE
SUMMARY:Business After Hours: Cultural & Economic Vitality
DESCRIPTION:Made up of over a dozen unique shops and studios with creative\, affordable\, unusual and useable works of art\, Bucktown Center for the Arts is a Quad Cities gem. Meet your Chamber colleagues at Business After hours in an environment focused on stimulating our region’s cultural and economic vitality through the support of the arts.
X-ALT-DESC;FMTTYPE=text/html:<P style="MARGIN: 0in 0in 0pt" class=MsoNormal><SPAN style="mso-bidi-font-size: 10.0pt"><FONT size=2><FONT face=Georgia>Made up of over a dozen unique shops and studios with creative\, affordable\, unusual and useable works of art\, Bucktown Center for the Arts is a Quad Cities gem. Meet your Chamber colleagues at Business After hours in an environment focused on stimulating our region’s cultural and economic vitality through the support of the arts. <?xml:namespace prefix = o ns = "urn:schemas-microsoft-com:office:office" /><o:p></o:p></FONT></FONT></SPAN></P><DIV>&nbsp\;</DIV>
LOCATION:Bucktown Center for the Arts
UID:e.2843.625
SEQUENCE:3
DTSTAMP:20260421T170953Z
URL:https://member.quadcitieschamber.com/events/details/business-after-hours-cultural-economic-vitality-08-08-2013-625
END:VEVENT

END:VCALENDAR
