BEGIN:VCALENDAR
VERSION:2.0
PRODID:-//ChamberMaster//Event Calendar 2.0//EN
METHOD:PUBLISH
X-PUBLISHED-TTL:P3D
REFRESH-INTERVAL:P3D
CALSCALE:GREGORIAN
BEGIN:VEVENT
DTSTART:20111110T230000Z
DTEND:20111111T010000Z
X-MICROSOFT-CDO-ALLDAYEVENT:FALSE
SUMMARY:Business After Hours - November 2011
DESCRIPTION:Connect with Quad Cities professionals at this fun and casual after-hours networking event.  Don't forget your business cards.
X-ALT-DESC;FMTTYPE=text/html:Connect with Quad Cities professionals at this fun and casual after-hours networking event.  Don't forget your business cards.
LOCATION:Kimberly Car City625 W Kimberly Road Davenport\, IA 52806
UID:e.2843.188
SEQUENCE:3
DTSTAMP:20260422T111248Z
URL:https://member.quadcitieschamber.com/events/details/business-after-hours-november-2011-11-10-2011-188
END:VEVENT

END:VCALENDAR
