BEGIN:VCALENDAR
VERSION:2.0
PRODID:-//ChamberMaster//Event Calendar 2.0//EN
METHOD:PUBLISH
X-PUBLISHED-TTL:P3D
REFRESH-INTERVAL:P3D
CALSCALE:GREGORIAN
BEGIN:VEVENT
DTSTART:20131010T220000Z
DTEND:20131011T000000Z
X-MICROSOFT-CDO-ALLDAYEVENT:FALSE
SUMMARY:Business After Hours: October 2013
DESCRIPTION:Business After HoursLOCATION: Gallery Lounge\, 3727 Esplande Ave.\,Davenport TIME: 5:00 p.m. COST: $10 for members pre-paid\, $15 for members at-the-door\, $20 for non-members Attend Business After Hours at Gallery Lounge\, a community-minded establishment celebrating over 40years in our region. Truly an “everything bar\,” enjoy appetizers\, drinks and networki
X-ALT-DESC;FMTTYPE=text/html:<DIV style="FONT-FAMILY: Arial"><B><FONT color=#003bb1 size=6 face=YanoneKaffeesatz-Bold><FONT color=#003bb1 size=6 face=YanoneKaffeesatz-Bold><FONT color=#003bb1 size=6 face=YanoneKaffeesatz-Bold><P align=left><FONT size=4 face=Tahoma>Business After Hours</FONT></P></B></FONT></FONT></FONT><FONT size=1><FONT size=1><P align=left></FONT></FONT><FONT face=Tahoma>LOCATION: </FONT><FONT face=Tahoma>Gallery Lounge\, 3727 Esplande Ave.\,</FONT><FONT face=Tahoma>Davenport </FONT></P><P align=left><FONT face=Tahoma>TIME: 5:00 p.m. </FONT></P><P align=left><FONT face=Tahoma>COST: </FONT><FONT face=Tahoma>$10 for members </FONT><FONT face=Tahoma>pre-paid\, $15 for members at-the-door\, $20 for non-members </FONT></P><P align=left><FONT face=Tahoma>Attend Business After Hours at Gallery Lounge\, a </FONT><FONT face=Tahoma>community-minded establishment celebrating over 40</FONT></P><P align=left><FONT face=Tahoma>years in our region. Truly an “everything bar\,” enjoy </FONT><FONT face=Tahoma>appetizers\, drinks and networki</FONT></P></DIV>
LOCATION:The Gallery Lounge3727 Esplande Avenue Davenport\, IA 52807
UID:e.2843.720
SEQUENCE:3
DTSTAMP:20260421T201259Z
URL:https://member.quadcitieschamber.com/events/details/business-after-hours-october-2013-10-10-2013-720
END:VEVENT

END:VCALENDAR
