BEGIN:VCALENDAR
VERSION:2.0
PRODID:-//ChamberMaster//Event Calendar 2.0//EN
METHOD:PUBLISH
X-PUBLISHED-TTL:P3D
REFRESH-INTERVAL:P3D
CALSCALE:GREGORIAN
BEGIN:VEVENT
DTSTART:20120112T230000Z
DTEND:20120113T010000Z
X-MICROSOFT-CDO-ALLDAYEVENT:FALSE
SUMMARY:Business After Hours/Progressive Dinner
DESCRIPTION:Business After Hours/Progressive DinnerJanuary 12\, 20125:00-7:00 p.m. Quad Cities Event Center - Downtown Davenport Radisson Quad City Plaza RiverCenter/Adler TheatreHotel Blackhawk 5:00 - 6:00 p.m.            Radisson QC Plaza\, Atrium                                     Butler Passed Soup Shooters:                                    -Crawfish Bisque and Cilantro Cream                                    -Roasted Shallot & Asparagus w/ toasted Pistachios                                    -Wild Mushroom & Smoked Gouda w/ Mushroom Crisps                                     Hors d’oeuvres Displays                                    -Marinated Grilled Vegetable Crudite                                    -Antipasto Italian Meat & Cheese TrayComplimentary Beverages 5:30 – 6:30 p.m.            RiverCenter South/Tributary Rooms                                    Entertainment provided by the Whoozdads\nSaltwater & Gardens Assortment of displayed Seafood accompanied with an array of fresh California Greens\, Composed Organic salads & toppings. Carving & ComplimentsSlow Roasted and Chef Carved Pastrami Steamship of Beef Macadamia Nut Crusted Chicken Breast with Pineapple & Mango CompoteTriple Layered Dauphinoise PotatoesGrilled Winter Root Vegetables Complimentary Beverages                                     6:00 – 7:00 p.m.            Hotel Blackhawk\, Gold Room                                    Banana Foster Station                                    Sundae Stations                               Complimentary Beverages
X-ALT-DESC;FMTTYPE=text/html:<P style="MARGIN: 0in 0in 0pt" class=MsoNormal><B><SPAN style="FONT-FAMILY: 'Microsoft Sans Serif'\,'sans-serif'\; FONT-SIZE: 11pt"><FONT size=2><FONT face=Arial>Business After Hours/Progressive Dinner<?xml:namespace prefix = o ns = "urn:schemas-microsoft-com:office:office" /><o:p></o:p></FONT></FONT></SPAN></B></P><B><SPAN style="FONT-FAMILY: 'Microsoft Sans Serif'\,'sans-serif'\; FONT-SIZE: 11pt"><P style="MARGIN: 0in 0in 0pt" class=MsoNormal><B><SPAN style="FONT-FAMILY: 'Microsoft Sans Serif'\,'sans-serif'\; FONT-SIZE: 11pt"><FONT size=2><FONT face=Arial>January 12\, 2012<o:p></o:p></FONT></FONT></SPAN></B></P><P style="MARGIN: 0in 0in 0pt" class=MsoNormal><FONT size=2 face=Arial>5:00-7:00 p.m.</FONT></P><P style="MARGIN: 0in 0in 0pt" class=MsoNormal><FONT size=2 face=Arial></FONT></SPAN></B>&nbsp\;</P><P style="MARGIN: 0in 0in 0pt" class=MsoNormal><SPAN style="FONT-FAMILY: 'Microsoft Sans Serif'\,'sans-serif'\; FONT-SIZE: 11pt"><FONT size=2 face=Arial><STRONG><U>Quad Cities Event Center - Downtown Davenport </U></STRONG></FONT></SPAN></P><P style="MARGIN: 0in 0in 0pt" class=MsoNormal><B><SPAN style="FONT-FAMILY: 'Microsoft Sans Serif'\,'sans-serif'\; FONT-SIZE: 11pt"><FONT size=2 face=Arial>Radisson Quad City Plaza </FONT></SPAN></B></P><P style="MARGIN: 0in 0in 0pt" class=MsoNormal><B><SPAN style="FONT-FAMILY: 'Microsoft Sans Serif'\,'sans-serif'\; FONT-SIZE: 11pt"><FONT size=2 face=Arial>RiverCenter/Adler Theatre</FONT></SPAN></B></P><P style="MARGIN: 0in 0in 0pt" class=MsoNormal><B><SPAN style="FONT-FAMILY: 'Microsoft Sans Serif'\,'sans-serif'\; FONT-SIZE: 11pt"><FONT size=2><FONT face=Arial>Hotel Blackhawk<o:p></o:p></FONT></FONT></SPAN></B></P><P style="MARGIN: 0in 0in 0pt" class=MsoNormal><B><SPAN style="FONT-FAMILY: 'Microsoft Sans Serif'\,'sans-serif'"><o:p><FONT size=2 face=Arial>&nbsp\;</FONT></o:p></SPAN></B></P><P style="MARGIN: 0in 0in 0pt" class=MsoNormal><SPAN style="FONT-FAMILY: 'Microsoft Sans Serif'\,'sans-serif'\; FONT-SIZE: 11pt"><FONT size=2><FONT face=Arial>5:00 - 6:00 p.m.&nbsp\;&nbsp\;&nbsp\;&nbsp\;&nbsp\;&nbsp\;&nbsp\;&nbsp\;&nbsp\;&nbsp\;&nbsp\; <B>Radisson QC Plaza\, Atrium <o:p></o:p></B></FONT></FONT></SPAN></P><SPAN style="FONT-FAMILY: 'Microsoft Sans Serif'\,'sans-serif'\; FONT-SIZE: 11pt"><FONT size=2><P style="MARGIN: 0in 0in 0pt" class=MsoNormal><?xml:namespace prefix = st1 ns = "urn:schemas-microsoft-com:office:smarttags" /><st1:place w:st="on"><st1:City w:st="on"><I><SPAN style="FONT-FAMILY: 'Arial'\,'sans-serif'\; FONT-SIZE: 10pt">&nbsp\;&nbsp\;&nbsp\;&nbsp\;&nbsp\;&nbsp\;&nbsp\;&nbsp\;&nbsp\;&nbsp\;&nbsp\;&nbsp\;&nbsp\;&nbsp\;&nbsp\;&nbsp\;&nbsp\;&nbsp\;&nbsp\;&nbsp\;&nbsp\;&nbsp\;&nbsp\;&nbsp\;&nbsp\;&nbsp\;&nbsp\;&nbsp\;&nbsp\;&nbsp\;&nbsp\;&nbsp\;&nbsp\;&nbsp\;&nbsp\; <U>Butler</U></SPAN></I></st1:City></st1:place><I><SPAN style="FONT-FAMILY: 'Arial'\,'sans-serif'\; FONT-SIZE: 10pt"><U> Passed Soup Shooters:<o:p></o:p></U></SPAN></I></P><P style="MARGIN: 0in 0in 0pt" class=MsoNormal><SPAN style="FONT-FAMILY: 'Arial'\,'sans-serif'\; FONT-SIZE: 10pt">&nbsp\;&nbsp\;&nbsp\;&nbsp\;&nbsp\;&nbsp\;&nbsp\;&nbsp\;&nbsp\;&nbsp\;&nbsp\;&nbsp\;&nbsp\;&nbsp\;&nbsp\;&nbsp\;&nbsp\;&nbsp\;&nbsp\;&nbsp\;&nbsp\;&nbsp\;&nbsp\;&nbsp\;&nbsp\;&nbsp\;&nbsp\;&nbsp\;&nbsp\;&nbsp\;&nbsp\;&nbsp\;&nbsp\;&nbsp\;&nbsp\;&nbsp\;-Crawfish Bisque and Cilantro Cream<o:p></o:p></SPAN></P><P style="MARGIN: 0in 0in 0pt" class=MsoNormal><SPAN style="FONT-FAMILY: 'Arial'\,'sans-serif'\; FONT-SIZE: 10pt">&nbsp\;&nbsp\;&nbsp\;&nbsp\;&nbsp\;&nbsp\;&nbsp\;&nbsp\;&nbsp\;&nbsp\;&nbsp\;&nbsp\;&nbsp\;&nbsp\;&nbsp\;&nbsp\;&nbsp\;&nbsp\;&nbsp\;&nbsp\;&nbsp\;&nbsp\;&nbsp\;&nbsp\;&nbsp\;&nbsp\;&nbsp\;&nbsp\;&nbsp\;&nbsp\;&nbsp\;&nbsp\;&nbsp\;&nbsp\;&nbsp\;&nbsp\;-Roasted Shallot &amp\; Asparagus w/ toasted Pistachios<o:p></o:p></SPAN></P><P style="MARGIN: 0in 0in 0pt" class=MsoNormal><SPAN style="FONT-FAMILY: 'Arial'\,'sans-serif'\; FONT-SIZE: 10pt">&nbsp\;&nbsp\;&nbsp\;&nbsp\;&nbsp\;&nbsp\;&nbsp\;&nbsp\;&nbsp\;&nbsp\;&nbsp\;&nbsp\;&nbsp\;&nbsp\;&nbsp\;&nbsp\;&nbsp\;&nbsp\;&nbsp\;&nbsp\;&nbsp\;&nbsp\;&nbsp\;&nbsp\;&nbsp\;&nbsp\;&nbsp\;&nbsp\;&nbsp\;&nbsp\;&nbsp\;&nbsp\;&nbsp\;&nbsp\;&nbsp\;&nbsp\;-Wild Mushroom &amp\; Smoked <st1:place w:st="on"><st1:City w:st="on">Gouda</st1:City></st1:place> w/ Mushroom Crisps<o:p></o:p></SPAN></P><P style="MARGIN: 0in 0in 0pt" class=MsoNormal><SPAN style="FONT-FAMILY: 'Arial'\,'sans-serif'\; FONT-SIZE: 10pt"><o:p>&nbsp\;</o:p></SPAN></P><P style="MARGIN: 0in 0in 0pt" class=MsoNormal><I><SPAN style="FONT-FAMILY: 'Arial'\,'sans-serif'\; FONT-SIZE: 10pt">&nbsp\;&nbsp\;&nbsp\;&nbsp\;&nbsp\;&nbsp\;&nbsp\;&nbsp\;&nbsp\;&nbsp\;&nbsp\;&nbsp\;&nbsp\;&nbsp\;&nbsp\;&nbsp\;&nbsp\;&nbsp\;&nbsp\;&nbsp\;&nbsp\;&nbsp\;&nbsp\;&nbsp\;&nbsp\;&nbsp\;&nbsp\;&nbsp\;&nbsp\;&nbsp\;&nbsp\;&nbsp\;&nbsp\;&nbsp\;&nbsp\; <U>Hors d’oeuvres Displays<o:p></o:p></U></SPAN></I></P><P style="MARGIN: 0in 0in 0pt" class=MsoNormal><SPAN style="FONT-FAMILY: 'Arial'\,'sans-serif'\; FONT-SIZE: 10pt">&nbsp\;&nbsp\;&nbsp\;&nbsp\;&nbsp\;&nbsp\;&nbsp\;&nbsp\;&nbsp\;&nbsp\;&nbsp\;&nbsp\;&nbsp\;&nbsp\;&nbsp\;&nbsp\;&nbsp\;&nbsp\;&nbsp\;&nbsp\;&nbsp\;&nbsp\;&nbsp\;&nbsp\;&nbsp\;&nbsp\;&nbsp\;&nbsp\;&nbsp\;&nbsp\;&nbsp\;&nbsp\;&nbsp\;&nbsp\;&nbsp\; -Marinated Grilled Vegetable Crudite<o:p></o:p></SPAN></P><P style="MARGIN: 0in 0in 0pt" class=MsoNormal><SPAN style="FONT-FAMILY: 'Arial'\,'sans-serif'\; FONT-SIZE: 10pt">&nbsp\;&nbsp\;&nbsp\;&nbsp\;&nbsp\;&nbsp\;&nbsp\;&nbsp\;&nbsp\;&nbsp\;&nbsp\;&nbsp\;&nbsp\;&nbsp\;&nbsp\;&nbsp\;&nbsp\;&nbsp\;&nbsp\;&nbsp\;&nbsp\;&nbsp\;&nbsp\;&nbsp\;&nbsp\;&nbsp\;&nbsp\;&nbsp\;&nbsp\;&nbsp\;&nbsp\;&nbsp\;&nbsp\;&nbsp\;&nbsp\; -Antipasto Italian Meat &amp\; Cheese Tray<o:p></o:p></SPAN></P><P style="TEXT-INDENT: 0.5in\; MARGIN: 0in 0in 0pt 1in" class=MsoNormal></FONT></SPAN><SPAN style="FONT-FAMILY: 'Microsoft Sans Serif'\,'sans-serif'\; FONT-SIZE: 11pt"><FONT size=2><SPAN style="FONT-FAMILY: 'Microsoft Sans Serif'\,'sans-serif'\; FONT-SIZE: 11pt"><FONT size=2 face=Arial>Complimentary Beverages</FONT></SPAN></P><o:p></o:p></FONT></SPAN><P style="TEXT-INDENT: 0.5in\; MARGIN: 0in 0in 0pt 1in" class=MsoNormal><B><SPAN style="FONT-FAMILY: 'Microsoft Sans Serif'\,'sans-serif'\; FONT-SIZE: 11pt"><o:p><FONT size=2 face=Arial>&nbsp\;</FONT></o:p></SPAN></B></P><P style="MARGIN: 0in 0in 0pt" class=MsoNormal><SPAN style="FONT-FAMILY: 'Microsoft Sans Serif'\,'sans-serif'\; FONT-SIZE: 11pt"><FONT size=2><FONT face=Arial>5:30 – 6:30 p.m.&nbsp\;&nbsp\;&nbsp\;&nbsp\;&nbsp\;&nbsp\;&nbsp\;&nbsp\;&nbsp\;&nbsp\; &nbsp\;<B>RiverCenter South/Tributary Rooms<o:p></o:p></B></FONT></FONT></SPAN></P><P style="MARGIN: 0in 0in 0pt" class=MsoNormal><SPAN style="FONT-FAMILY: 'Microsoft Sans Serif'\,'sans-serif'\; FONT-SIZE: 11pt"><FONT size=2><FONT face=Arial>&nbsp\;&nbsp\;&nbsp\;&nbsp\;&nbsp\;&nbsp\;&nbsp\;&nbsp\;&nbsp\;&nbsp\;&nbsp\;&nbsp\;&nbsp\;&nbsp\;&nbsp\;&nbsp\;&nbsp\;&nbsp\;&nbsp\;&nbsp\;&nbsp\;&nbsp\;&nbsp\;&nbsp\;&nbsp\;&nbsp\;&nbsp\;&nbsp\;&nbsp\;&nbsp\;&nbsp\;&nbsp\;&nbsp\;&nbsp\;&nbsp\; Entertainment provided by the Whoozdads<o:p></o:p></FONT></FONT></SPAN></P><P style="MARGIN: 0in 0in 0pt 1.5in" class=MsoNormal><U><SPAN style="FONT-FAMILY: 'Microsoft Sans Serif'\,'sans-serif'\; FONT-SIZE: 11pt"><FONT size=2><BR><FONT face=Arial>Saltwater &amp\; Gardens <o:p></o:p></FONT></FONT></SPAN></U></P><P style="MARGIN: 0in 0in 0pt 1.5in" class=MsoNormal><SPAN style="FONT-FAMILY: 'Microsoft Sans Serif'\,'sans-serif'\; FONT-SIZE: 11pt"><FONT size=2><FONT face=Arial>Assortment of displayed Seafood accompanied with an array of fresh California Greens\, Composed Organic salads &amp\; toppings.<o:p></o:p></FONT></FONT></SPAN></P><P style="MARGIN: 0in 0in 0pt 1.5in" class=MsoNormal><SPAN style="FONT-FAMILY: 'Microsoft Sans Serif'\,'sans-serif'\; FONT-SIZE: 11pt"><o:p><FONT size=2 face=Arial>&nbsp\;</FONT></o:p></SPAN></P><P style="MARGIN: 0in 0in 0pt 1.5in" class=MsoNormal><U><SPAN style="FONT-FAMILY: 'Microsoft Sans Serif'\,'sans-serif'\; FONT-SIZE: 11pt"><FONT size=2><FONT face=Arial>Carving &amp\; Compliments<o:p></o:p></FONT></FONT></SPAN></U></P><P style="MARGIN: 0in 0in 0pt 1.5in" class=MsoNormal><SPAN style="FONT-FAMILY: 'Microsoft Sans Serif'\,'sans-serif'\; FONT-SIZE: 11pt"><FONT size=2 face=Arial>Slow Roasted and Chef Carved Pastrami Steamship of Beef </FONT></SPAN></P><P style="MARGIN: 0in 0in 0pt 1.5in" class=MsoNormal><SPAN style="FONT-FAMILY: 'Microsoft Sans Serif'\,'sans-serif'\; FONT-SIZE: 11pt"><FONT size=2><FONT face=Arial>Macadamia Nut Crusted Chicken Breast with Pineapple &amp\; Mango Compote<o:p></o:p></FONT></FONT></SPAN></P><P style="MARGIN: 0in 0in 0pt 1.5in" class=MsoNormal><SPAN style="FONT-FAMILY: 'Microsoft Sans Serif'\,'sans-serif'\; FONT-SIZE: 11pt"><FONT size=2><FONT face=Arial>Triple Layered Dauphinoise Potatoes<o:p></o:p></FONT></FONT></SPAN></P><P style="MARGIN: 0in 0in 0pt 1.5in" class=MsoNormal><SPAN style="FONT-FAMILY: 'Microsoft Sans Serif'\,'sans-serif'\; FONT-SIZE: 11pt"><FONT size=2 face=Arial>Grilled Winter Root Vegetables</FONT></SPAN></P><P style="MARGIN: 0in 0in 0pt 1.5in" class=MsoNormal><SPAN style="FONT-FAMILY: 'Microsoft Sans Serif'\,'sans-serif'\; FONT-SIZE: 11pt"><FONT size=2 face=Arial></FONT></SPAN>&nbsp\;</P><P style="MARGIN: 0in 0in 0pt 1.5in" class=MsoNormal><SPAN style="FONT-FAMILY: 'Microsoft Sans Serif'\,'sans-serif'\; FONT-SIZE: 11pt"><FONT size=2 face=Arial>Complimentary Beverages</FONT></SPAN></P><P style="MARGIN: 0in 0in 0pt" class=MsoNormal><SPAN style="FONT-FAMILY: 'Microsoft Sans Serif'\,'sans-serif'\; FONT-SIZE: 11pt"><o:p><FONT size=2 face=Arial>&nbsp\;</FONT></o:p></SPAN></P><P style="MARGIN: 0in 0in 0pt" class=MsoNormal><SPAN style="FONT-FAMILY: 'Microsoft Sans Serif'\,'sans-serif'\; FONT-SIZE: 11pt"><FONT size=2><FONT face=Arial>&nbsp\;&nbsp\;&nbsp\;&nbsp\;&nbsp\;&nbsp\;&nbsp\;&nbsp\;&nbsp\;&nbsp\;&nbsp\;&nbsp\;&nbsp\;&nbsp\;&nbsp\;&nbsp\;&nbsp\;&nbsp\;&nbsp\;&nbsp\;&nbsp\;&nbsp\;&nbsp\;&nbsp\;&nbsp\;&nbsp\;&nbsp\;&nbsp\;&nbsp\;&nbsp\;&nbsp\;&nbsp\;&nbsp\;&nbsp\;&nbsp\; <o:p></o:p></FONT></FONT></SPAN></P><P style="MARGIN: 0in 0in 0pt" class=MsoNormal><SPAN style="FONT-FAMILY: 'Microsoft Sans Serif'\,'sans-serif'\; FONT-SIZE: 11pt"><FONT size=2><FONT face=Arial>6:00 – 7:00&nbsp\;p.m.&nbsp\;&nbsp\;&nbsp\;&nbsp\;&nbsp\;&nbsp\;&nbsp\;&nbsp\;&nbsp\;&nbsp\;&nbsp\; <B>Hotel Blackhawk\, Gold Room</B><o:p></o:p></FONT></FONT></SPAN></P><P style="MARGIN: 0in 0in 0pt" class=MsoNormal><SPAN style="FONT-FAMILY: 'Microsoft Sans Serif'\,'sans-serif'\; FONT-SIZE: 11pt"><FONT size=2 face=Arial>&nbsp\;&nbsp\;&nbsp\;&nbsp\;&nbsp\;&nbsp\;&nbsp\;&nbsp\;&nbsp\;&nbsp\;&nbsp\;&nbsp\;&nbsp\;&nbsp\;&nbsp\;&nbsp\;&nbsp\;&nbsp\;&nbsp\;&nbsp\;&nbsp\;&nbsp\;&nbsp\;&nbsp\;&nbsp\;&nbsp\;&nbsp\;&nbsp\;&nbsp\;&nbsp\;&nbsp\;&nbsp\;&nbsp\;&nbsp\;&nbsp\;&nbsp\;Banana Foster Station</FONT></SPAN></P><P style="MARGIN: 0in 0in 0pt" class=MsoNormal><SPAN style="FONT-FAMILY: 'Microsoft Sans Serif'\,'sans-serif'\; FONT-SIZE: 11pt"></SPAN><SPAN style="FONT-FAMILY: 'Microsoft Sans Serif'\,'sans-serif'\; FONT-SIZE: 11pt"><FONT size=2><o:p><FONT face=Arial>&nbsp\;&nbsp\;&nbsp\;&nbsp\;&nbsp\;&nbsp\;&nbsp\;&nbsp\;&nbsp\;&nbsp\;&nbsp\;&nbsp\;&nbsp\;&nbsp\;&nbsp\;&nbsp\;&nbsp\;&nbsp\;&nbsp\;&nbsp\;&nbsp\;&nbsp\;&nbsp\;&nbsp\;&nbsp\;&nbsp\;&nbsp\;&nbsp\;&nbsp\;&nbsp\;&nbsp\;&nbsp\;&nbsp\;&nbsp\;&nbsp\;&nbsp\;Sundae Stations &nbsp\;&nbsp\;&nbsp\;&nbsp\;&nbsp\;&nbsp\;&nbsp\;&nbsp\;&nbsp\;&nbsp\;&nbsp\;&nbsp\;&nbsp\;&nbsp\;&nbsp\;&nbsp\;&nbsp\;&nbsp\;&nbsp\;&nbsp\;&nbsp\;&nbsp\;&nbsp\;&nbsp\;&nbsp\;&nbsp\;&nbsp\;&nbsp\;&nbsp\; </FONT></P><P style="MARGIN: 0in 0in 0pt 1.5in" class=MsoNormal><SPAN style="FONT-FAMILY: 'Microsoft Sans Serif'\,'sans-serif'\; FONT-SIZE: 11pt"><FONT size=2 face=Arial>Complimentary Beverages</FONT></SPAN></P></o:p></FONT></SPAN>
LOCATION:Quad Cities Event Center
UID:e.2843.215
SEQUENCE:3
DTSTAMP:20260422T092953Z
URL:https://member.quadcitieschamber.com/events/details/business-after-hours-progressive-dinner-01-12-2012-215
END:VEVENT

END:VCALENDAR
