BEGIN:VCALENDAR
VERSION:2.0
PRODID:-//ChamberMaster//Event Calendar 2.0//EN
METHOD:PUBLISH
X-PUBLISHED-TTL:P3D
REFRESH-INTERVAL:P3D
CALSCALE:GREGORIAN
BEGIN:VEVENT
DTSTART:20120913T220000Z
DTEND:20120914T000000Z
X-MICROSOFT-CDO-ALLDAYEVENT:FALSE
SUMMARY:Business After Hours - September 2012
DESCRIPTION:Connect with Quad Cities professionals at this fun and casual after-hours networking event. \n\n \n\n \n\nDon't forget your business cards.\n\n \n\n \n\nClick here to see who has already registered for this event!
X-ALT-DESC;FMTTYPE=text/html:<p class="MsoNormal" style="MARGIN: 0in 0in 0pt\; mso-margin-top-alt: auto\; mso-margin-bottom-alt: auto"><span style="FONT-FAMILY: 'Arial'\,'sans-serif'\; FONT-SIZE: 10pt\; mso-fareast-font-family: 'Times New Roman'">Connect with Quad Cities professionals at this fun and casual after-hours networking event. <!--?xml:namespace prefix = o ns = "urn:schemas-microsoft-com:office:office" /--><o:p></o:p></span></p>\n\n<p class="MsoNormal" style="MARGIN: 0in 0in 0pt\; mso-margin-top-alt: auto\; mso-margin-bottom-alt: auto">&nbsp\;</p>\n\n<p class="MsoNormal" style="MARGIN: 0in 0in 0pt\; mso-margin-top-alt: auto\; mso-margin-bottom-alt: auto">&nbsp\;</p>\n\n<p class="MsoNormal" style="MARGIN: 0in 0in 0pt\; mso-margin-top-alt: auto\; mso-margin-bottom-alt: auto"><span style="FONT-FAMILY: 'Arial'\,'sans-serif'\; FONT-SIZE: 10pt\; mso-fareast-font-family: 'Times New Roman'">Don&#39\;t forget your business cards.<o:p></o:p></span></p>\n\n<p class="MsoNormal" style="MARGIN: 0in 0in 0pt\; mso-margin-top-alt: auto\; mso-margin-bottom-alt: auto">&nbsp\;</p>\n\n<p class="MsoNormal" style="MARGIN: 0in 0in 0pt\; mso-margin-top-alt: auto\; mso-margin-bottom-alt: auto">&nbsp\;</p>\n\n<p class="MsoNormal" style="MARGIN: 0in 0in 0pt\; mso-margin-top-alt: auto\; mso-margin-bottom-alt: auto"><span style="FONT-FAMILY: 'Arial'\,'sans-serif'\; FONT-SIZE: 10pt\; mso-fareast-font-family: 'Times New Roman'"><a datafld="0:0" href="http://events.quadcitieschamber.com/sbaweb/common/attendees.asp?eventcode=BAH 09/12" style="COLOR: blue\; TEXT-DECORATION: underline" target="_self" title=""><span style="COLOR: windowtext">Click here</span></a> to see who has already registered for this event! <o:p></o:p></span></p>\n\n<p>&nbsp\;</p>\n
LOCATION:
UID:e.2843.222
SEQUENCE:3
DTSTAMP:20260421T201355Z
URL:https://member.quadcitieschamber.com/events/details/business-after-hours-september-2012-09-13-2012-222
END:VEVENT

END:VCALENDAR
