BEGIN:VCALENDAR
VERSION:2.0
PRODID:-//ChamberMaster//Event Calendar 2.0//EN
METHOD:PUBLISH
X-PUBLISHED-TTL:P3D
REFRESH-INTERVAL:P3D
CALSCALE:GREGORIAN
BEGIN:VEVENT
DTSTART:20200128T180000Z
DTEND:20200128T190000Z
X-MICROSOFT-CDO-ALLDAYEVENT:FALSE
SUMMARY:Business Exchange
DESCRIPTION:Business Exchange\n\nTuesday\, January 28 | 12 - 1 PM\n\nCambria Hotel\, Bettendorf\n\n\nThis event is currently full and registration has closed. Unfortunately\, walk-in registrations will not be available for this event.\n\nRegister now for the next Business Exchange on April 29.\n\n\n\nTo grow your business and/or professional opportunities you need to connect with more people. With no formal presentation\, Business Exchange is all about networking (aka relationship building) and establishing referrals with other Chamber members.\n\n \n\nRick Davis\, Davis Presentation Group LLC\, will facilitate this structured networking event and share tips and strategies on how to become more confident and comfortable networking in any environment. \n\n\n\nWhat to expect:\n\n\n	Guests will be seated at tables of 6\n	First round (20 minutes) - each person will introduce themselves\, then discuss a topic \n	Second round (20 minutes) - switch tables\, meet new people and repeat\n\nRegister by noon on Monday\, January 27th\, and you'll receive a guest list in advance. After the event\, you'll receive a full contact list of all attendees\, including email. (By registering for this event you agree to have your email shared with attendees.)\n\n\n\nDon't forget to bring along your business cards.\n\n\n\nWe strive to host inclusive and accessible events that enable all individuals to engage fully. For event assistance or any additional information\, please contact:\n\n\n\nMarcy Hyder\n\nPhone: 563.823.2690\n\nEmail: mhyder@quadcitieschamber.com\n\n\n\n Cancellation Policy:\n\nCancellations must be received at least 72 hours in advance in order to receive a registration refund. You may transfer your registration to another person within your company at no additional cost.
X-ALT-DESC;FMTTYPE=text/html:<span style="font-family:arial\;"><strong><span style="font-size:16px\;">Business Exchange<br />\nTuesday\, January 28 | 12 - 1 PM<br />\nCambria Hotel\, Bettendorf</span></strong></span>\n<p style="box-sizing: border-box\; margin: 0px 0px 1rem\; color: rgb(39\, 50\, 56)\; font-family: Arial\, sans-serif\; font-size: 16px\;"><br />\n<strong><span style="color:#FF0000\;">This event is currently full and registration has closed. Unfortunately\, walk-in registrations will not be available for this event.</span><br />\n<a href="http://member.quadcitieschamber.com/events/details/business-exchange-15446">Register now for the next Business Exchange&nbsp\;on April 29.</a></strong><br />\n<br />\n<span style="box-sizing: border-box\; font-family: arial\;">To grow your business and/or professional opportunities you need to connect with more people. With no formal presentation\, Business Exchange is all about networking (aka relationship building) and establishing referrals with other Chamber members.<br style="box-sizing: border-box\;" />\n&nbsp\;<br style="box-sizing: border-box\;" />\nRick Davis\,&nbsp\;<a href="https://davispresentationgroup.com/" style="box-sizing: border-box\; background-color: transparent\; color: rgb(68\, 138\, 202)\; text-decoration-line: none\; overflow-wrap: break-word\; outline: 0px\;" target="_blank">Davis Presentation Group LLC</a>\, will facilitate this structured networking event and share tips and strategies on how to become more confident and comfortable networking in any environment.&nbsp\;<br style="box-sizing: border-box\;" />\n<br style="box-sizing: border-box\;" />\n<span style="box-sizing: border-box\; font-weight: bolder\;">What to expect:</span></span></p>\n\n<ul style="box-sizing: border-box\; margin-top: 0px\; margin-bottom: 1rem\; color: rgb(39\, 50\, 56)\; font-family: Arial\, sans-serif\; font-size: 16px\;">\n	<li style="box-sizing: border-box\; margin: 0px\;"><span style="box-sizing: border-box\; font-family: arial\;">Guests will be seated at tables of 6</span></li>\n	<li style="box-sizing: border-box\; margin: 0px\;"><span style="box-sizing: border-box\; font-family: arial\;">First round (20 minutes) - each person will introduce themselves\, then discuss a topic&nbsp\;</span></li>\n	<li style="box-sizing: border-box\; margin: 0px\;"><span style="box-sizing: border-box\; font-family: arial\;">Second round (20 minutes) - switch tables\, meet new people and repeat</span></li>\n</ul>\n<span style="box-sizing: border-box\; color: rgb(39\, 50\, 56)\; font-size: 16px\; font-family: arial\;"><span style="box-sizing: border-box\;">Register by noon on Monday\, January 27th\, and you&#39\;ll receive a guest list in advance. After the event\, you&#39\;ll receive a full contact list of all attendees\, including email. (By registering for this event you agree to have your email shared with attendees.)<br style="box-sizing: border-box\;" />\n<br style="box-sizing: border-box\;" />\n<span style="box-sizing: border-box\; font-weight: bolder\; color: rgb(15\, 15\, 15)\; font-size: 14px\;"><em style="box-sizing: border-box\;">Don&#39\;t forget to bring along your business cards.</em></span></span></span><br style="box-sizing: border-box\; color: rgb(39\, 50\, 56)\; font-family: Arial\, sans-serif\; font-size: 16px\;" />\n<br style="box-sizing: border-box\;" />\n<span style="box-sizing: border-box\; color: rgb(39\, 50\, 56)\; font-size: 16px\; font-family: arial\;"><span style="box-sizing: border-box\;">We strive to host inclusive and accessible events that enable all individuals to engage fully. For event assistance or any additional information\, please contact:<br style="box-sizing: border-box\;" />\n<br style="box-sizing: border-box\;" />\n<span style="box-sizing: border-box\; font-weight: bolder\;">Marcy Hyder</span><br style="box-sizing: border-box\;" />\nPhone: 563.823.2690<br style="box-sizing: border-box\;" />\nEmail:&nbsp\;<a href="mailto:mhyder@quadcitieschamber.com" style="box-sizing: border-box\; background-color: transparent\; color: rgb(68\, 138\, 202)\; text-decoration-line: none\; overflow-wrap: break-word\; outline: 0px\;">mhyder@quadcitieschamber.com</a></span></span><br style="box-sizing: border-box\; color: rgb(39\, 50\, 56)\; font-family: Arial\, sans-serif\; font-size: 16px\;" />\n<br style="box-sizing: border-box\; color: rgb(39\, 50\, 56)\; font-family: Arial\, sans-serif\; font-size: 16px\;" />\n<u style="box-sizing: border-box\; color: rgb(39\, 50\, 56)\; font-size: 16px\; font-family: arial\;">&#8203\;Cancellation&nbsp\;Policy:</u><br style="box-sizing: border-box\; color: rgb(39\, 50\, 56)\; font-size: 16px\; font-family: Arial\;" />\n<span style="box-sizing: border-box\; color: rgb(39\, 50\, 56)\; font-size: 16px\; font-family: arial\;">Cancellations&nbsp\;must be received at least 72 hours in advance in order to receive a registration refund. You may transfer your registration to another person within your company at no additional cost.</span><br style="box-sizing: border-box\; color: rgb(39\, 50\, 56)\; font-family: Arial\, sans-serif\; font-size: 16px\;" />\n<span style="color: rgb(39\, 50\, 56)\; font-family: Arial\, sans-serif\; font-size: 16px\;">&nbsp\;</span>
LOCATION:Cambria Hotel 5061 Competition Dr. | Bettendorf\, IA
UID:e.2843.15445
SEQUENCE:3
DTSTAMP:20260422T014924Z
URL:https://member.quadcitieschamber.com/events/details/business-exchange-15445
END:VEVENT

END:VCALENDAR
