BEGIN:VCALENDAR
VERSION:2.0
PRODID:-//ChamberMaster//Event Calendar 2.0//EN
METHOD:PUBLISH
X-PUBLISHED-TTL:P3D
REFRESH-INTERVAL:P3D
CALSCALE:GREGORIAN
BEGIN:VEVENT
DTSTART:20210819T133000Z
DTEND:20210819T143000Z
X-MICROSOFT-CDO-ALLDAYEVENT:FALSE
SUMMARY:Business Exchange
DESCRIPTION:Business Exchange\n\nThursday\, August 19 | 8:30 - 9:30 AM\n\n8:00 - 8:30 AM | Registration & Breakfast\n\n8:30 - 9:30 AM | Program\n\nTaxSlayer Center\, Moline\n\n \nWe are back in-person for this networking event and are switching it to a morning session! \n\n\n	Due to new guidance from the CDC for areas with rising COVID-19 transmission levels\, the Quad Cities Chamber is deploying CDC-recommended guidelines at our events.\n	Masks will be required to at the event. Click here for the Chamber's COVID-19 protocols.\n\n\nTo grow your business and/or professional opportunities you need to connect with more people. With no formal presentation\, Business Exchange is all about relationship building and establishing referrals with other Chamber members.\n\n \n\nRick Davis will facilitate this structured networking event and share tips and strategies on how to become more confident and comfortable networking in any environment. \n\n\n\nWhat to expect:\n\n\n	Guests will be seated at tables of 6\n	First round (20 minutes) - each person will introduce themselves\, then discuss a topic \n	Second round (20 minutes) - switch tables\, meet new people and repeat\n\nRegistration is limited to 100 attendees. This event is for Chamber members only.\n\n\n\nRegister by noon on Tuesday\, August 18\, and you'll receive a guest list in advance. After the event\, you'll receive a full contact list of all attendees\, including email. (By registering for this event you agree to have your email shared with attendees.)\n\n\n\nDon't forget to bring your business cards.\n\n\n\nWe strive to host inclusive and accessible events that enable all individuals to engage fully. For event assistance or any additional information\, please contact:\n\n \nTerri Smith\n\nPhone: 563.823.2694\n\nEmail: tsmith@quadcitieschamber.com\n\n\n\n Cancellation Policy:\n\nCancellations must be received at least 72 hours in advance in order to receive a registration refund. You may transfer your registration to another person within your company at no additional cost.
X-ALT-DESC;FMTTYPE=text/html:<span style="font-family:arial\;"><strong><span style="font-size:16px\;">Business Exchange<br />\nThursday\, August 19 | 8:30 - 9:30 AM<br />\n8:00 - 8:30 AM | Registration &amp\; Breakfast<br />\n8:30 - 9:30 AM | Program<br />\nTaxSlayer Center\, Moline</span></strong></span><br />\n&nbsp\;\n<p style="box-sizing: border-box\; margin: 0px 0px 1rem\; color: rgb(39\, 50\, 56)\; font-family: Arial\, sans-serif\; font-size: 16px\;"><span style="box-sizing: border-box\; font-family: arial\;"><strong>We are back in-person for this networking&nbsp\;event and are switching it to a morning session!&nbsp\;</strong></span></p>\n\n<ul style="box-sizing: border-box\; margin-top: 0px\; margin-bottom: 1rem\; outline: 0px\; color: rgb(39\, 50\, 56)\; font-family: Arial\, sans-serif\; font-size: 16px\; background-color: rgb(255\, 255\, 255)\;">\n	<li style="box-sizing: border-box\; margin: 0px\;"><span style="box-sizing: border-box\;">Due to new guidance from the CDC for areas with rising COVID-19 transmission levels\, the Quad Cities Chamber is deploying CDC-recommended guidelines at our events.</span></li>\n	<li style="box-sizing: border-box\; margin: 0px\; outline: 0px\;"><span style="box-sizing: border-box\; outline: 0px\;"><span style="box-sizing: border-box\; font-weight: bolder\; outline: 0px\;">Masks will be required to at the event</span>.&nbsp\;<a href="https://quadcitieschamber.com/pdf/Enhanced_Sanitation_Measures_rev_August_2021.pdf" style="box-sizing: border-box\; background-color: transparent\; color: rgb(68\, 138\, 202)\; text-decoration-line: none\; overflow-wrap: break-word\;">Click here for the Chamber&#39\;s COVID-19 protocols.</a></span></li>\n</ul>\n\n<p style="box-sizing: border-box\; margin: 0px 0px 1rem\; color: rgb(39\, 50\, 56)\; font-family: Arial\, sans-serif\; font-size: 16px\;"><span style="box-sizing: border-box\; font-family: arial\;">To grow your business and/or professional opportunities you need to connect with more people. With no formal presentation\, Business Exchange is all about&nbsp\;relationship building&nbsp\;and establishing referrals with other Chamber members.<br style="box-sizing: border-box\;" />\n&nbsp\;<br style="box-sizing: border-box\;" />\nRick Davis will facilitate this structured networking event and share tips and strategies on how to become more confident and comfortable networking in any environment.&nbsp\;<br style="box-sizing: border-box\;" />\n<br style="box-sizing: border-box\;" />\n<span style="box-sizing: border-box\; font-weight: bolder\;">What to expect:</span></span></p>\n\n<ul style="padding: 0px 40px\; box-sizing: border-box\; margin-top: 0px\; margin-bottom: 1rem\; color: rgb(39\, 50\, 56)\; font-family: Arial\, sans-serif\; font-size: 16px\;">\n	<li style="box-sizing: border-box\; margin: 0px\;"><span style="box-sizing: border-box\; font-family: arial\;">Guests will be seated at tables of 6</span></li>\n	<li style="box-sizing: border-box\; margin: 0px\;"><span style="box-sizing: border-box\; font-family: arial\;">First round (20 minutes) - each person will introduce themselves\, then discuss a topic&nbsp\;</span></li>\n	<li style="box-sizing: border-box\; margin: 0px\;"><span style="box-sizing: border-box\; font-family: arial\;">Second round (20 minutes) - switch tables\, meet new people and repeat</span></li>\n</ul>\n<span style="box-sizing: border-box\; color: rgb(39\, 50\, 56)\; font-size: 16px\; font-family: arial\;"><strong>Registration is limited to 100 attendees.</strong>&nbsp\;This event is for Chamber members only.<br />\n<br />\nRegister by noon on Tuesday\, August 18\, and you&#39\;ll receive a guest list in advance. After the event\, you&#39\;ll receive a full contact list of all attendees\, including email. (By registering for this event you agree to have your email shared with attendees.)<br />\n<br />\n<em>Don&#39\;t forget to bring your business cards.</em></span><br font-size:="" style="color: rgb(51\, 51\, 51)\; font-family: sans-serif\, Arial\, Verdana\, " trebuchet="" />\n<br box-sizing:="" font-size:="" style="color: rgb(51\, 51\, 51)\; font-family: sans-serif\, Arial\, Verdana\, " trebuchet="" />\n<span style="box-sizing: border-box\; color: rgb(39\, 50\, 56)\; font-size: 16px\; font-family: arial\;">We strive to host inclusive and accessible events that enable all individuals to engage fully. For event assistance or any additional information\, please contact:</span>\n\n<p style="box-sizing: border-box\; margin: 0px 0px 1rem\; color: rgb(39\, 50\, 56)\; font-family: Arial\, sans-serif\; font-size: 16px\;">&nbsp\;</p>\n<span style="box-sizing: border-box\; color: rgb(39\, 50\, 56)\; font-size: 16px\; font-family: arial\;"><span style="box-sizing: border-box\;"><b>Terri Smith</b><br style="box-sizing: border-box\;" />\nPhone: 563.823.2694<br style="box-sizing: border-box\;" />\nEmail: tsmith<a href="mailto:mhyder@quadcitieschamber.com" style="box-sizing: border-box\; background-color: transparent\; color: rgb(68\, 138\, 202)\; text-decoration-line: none\; overflow-wrap: break-word\; outline: 0px\;">@quadcitieschamber.com</a></span></span><br style="box-sizing: border-box\; color: rgb(39\, 50\, 56)\; font-family: Arial\, sans-serif\; font-size: 16px\;" />\n<br style="box-sizing: border-box\; color: rgb(39\, 50\, 56)\; font-family: Arial\, sans-serif\; font-size: 16px\;" />\n<u style="box-sizing: border-box\; color: rgb(39\, 50\, 56)\; font-size: 16px\; font-family: arial\;">&#8203\;Cancellation&nbsp\;Policy:</u><br style="box-sizing: border-box\; color: rgb(39\, 50\, 56)\; font-size: 16px\; font-family: Arial\;" />\n<span style="box-sizing: border-box\; color: rgb(39\, 50\, 56)\; font-size: 16px\; font-family: arial\;">Cancellations&nbsp\;must be received at least 72 hours in advance in order to receive a registration refund. You may transfer your registration to another person within your company at no additional cost.</span><br style="box-sizing: border-box\; color: rgb(39\, 50\, 56)\; font-family: Arial\, sans-serif\; font-size: 16px\;" />\n<span style="color: rgb(39\, 50\, 56)\; font-family: Arial\, sans-serif\; font-size: 16px\;">&nbsp\;</span>
LOCATION:TaxSlayer Center 1201 River Drive Moline\, IL 61265
UID:e.2843.18379
SEQUENCE:3
DTSTAMP:20260425T133837Z
URL:https://member.quadcitieschamber.com/events/details/business-exchange-18379
END:VEVENT

END:VCALENDAR
