BEGIN:VCALENDAR
VERSION:2.0
PRODID:-//ChamberMaster//Event Calendar 2.0//EN
METHOD:PUBLISH
X-PUBLISHED-TTL:P3D
REFRESH-INTERVAL:P3D
CALSCALE:GREGORIAN
BEGIN:VEVENT
DTSTART:20171207T180000Z
DTEND:20171207T190000Z
X-MICROSOFT-CDO-ALLDAYEVENT:FALSE
SUMMARY:Business Owner Luncheon
DESCRIPTION:A luncheon for business owners\, self employed individuals and entrepreneurs that will feature several local professionals who will provide tips on how to make your business successful in the Quad Cities.
X-ALT-DESC;FMTTYPE=text/html:A luncheon for business owners\, self employed individuals and entrepreneurs that will feature several local professionals who will provide tips on how to make your business successful in the Quad Cities.
LOCATION:Quad Cities Chamber Office 331 W 3rd St. Davenport\, IA
UID:e.2843.8835
SEQUENCE:3
DTSTAMP:20260423T181355Z
URL:https://member.quadcitieschamber.com/events/details/business-owner-luncheon-12-07-2017-8835
END:VEVENT

END:VCALENDAR
