BEGIN:VCALENDAR
VERSION:2.0
PRODID:-//ChamberMaster//Event Calendar 2.0//EN
METHOD:PUBLISH
X-PUBLISHED-TTL:P3D
REFRESH-INTERVAL:P3D
CALSCALE:GREGORIAN
BEGIN:VEVENT
DTSTART:20170404T170000Z
DTEND:20170404T180000Z
X-MICROSOFT-CDO-ALLDAYEVENT:FALSE
SUMMARY:Business Owner Luncheon
DESCRIPTION:A panel of local business owners and advisors will present tips for small business owners and self-employed individuals: -Starting a business in the Quad Cities -How to grow your business -How to save on taxes -Attracting and retaining good employees -Succession planning (buy/sell agreements and how to make your business more valuable). *This event has limited seating of 30. Lunch will be provided.
X-ALT-DESC;FMTTYPE=text/html:A panel of local business owners and advisors will present tips for small business owners and self-employed individuals: -Starting a business in the Quad Cities -How to grow your business -How to save on taxes -Attracting and retaining good employees -Succession planning (buy/sell agreements and how to make your business more valuable). *This event has limited seating of 30. Lunch will be provided.
LOCATION:Quad Cities Chamber 331 West 3rd Street Davenport\, IA
UID:e.2843.4744
SEQUENCE:3
DTSTAMP:20260424T044401Z
URL:https://member.quadcitieschamber.com/events/details/business-owner-luncheon-4744
END:VEVENT

END:VCALENDAR
