BEGIN:VCALENDAR
VERSION:2.0
PRODID:-//ChamberMaster//Event Calendar 2.0//EN
METHOD:PUBLISH
X-PUBLISHED-TTL:P3D
REFRESH-INTERVAL:P3D
CALSCALE:GREGORIAN
BEGIN:VEVENT
DTSTART:20190228T150000Z
DTEND:20190228T220000Z
X-MICROSOFT-CDO-ALLDAYEVENT:FALSE
SUMMARY:Lee Agency Business & Safety Seminar
DESCRIPTION:9:00-9:15   Registration\n\n\n\n9:15-12:15 Emergency Preparedness with Dutch Geisinger\, Safeguard Iowa\n\n	Active Threat/Workplace Violence\n	Hazard Vulnerability Assessments\n	Business Continuity\n\nBring a copy of your current emergency preparedness plan for review.\n\n\n\n12:15-1:00 Lunch (provided)\n\n\n\n1:00-4:00  Employee Safety-Workers' Compensation\n\n                 Lessons Learned & Case Studies with Dave Nettum\, AVP Argent\n\n                 Practical First Aid\, Local EMT Presentation
X-ALT-DESC;FMTTYPE=text/html:9:00-9:15 &nbsp\; Registration<br />\n<br />\n9:15-12:15 Emergency Preparedness with Dutch Geisinger\, Safeguard Iowa\n<ul>\n	<li>Active Threat/Workplace Violence</li>\n	<li>Hazard Vulnerability Assessments</li>\n	<li>Business Continuity</li>\n</ul>\nBring a copy of your current emergency preparedness plan for review.<br />\n<br />\n12:15-1:00 Lunch (provided)<br />\n<br />\n1:00-4:00&nbsp\; Employee Safety-Workers&#39\; Compensation<br />\n&nbsp\; &nbsp\; &nbsp\; &nbsp\; &nbsp\; &nbsp\; &nbsp\; &nbsp\;&nbsp\; Lessons Learned &amp\; Case Studies with Dave Nettum\, AVP Argent<br />\n&nbsp\; &nbsp\; &nbsp\; &nbsp\; &nbsp\; &nbsp\; &nbsp\; &nbsp\;&nbsp\; Practical First Aid\, Local EMT Presentation
LOCATION:Calvary Church Family Life Center (East Entrance) 501 West Bypass 61 Muscatine\, Iowa 52761
UID:e.2843.13759
SEQUENCE:3
DTSTAMP:20260422T195642Z
URL:https://member.quadcitieschamber.com/events/details/business-safety-seminar-13759
END:VEVENT

END:VCALENDAR
