BEGIN:VCALENDAR
VERSION:2.0
PRODID:-//ChamberMaster//Event Calendar 2.0//EN
METHOD:PUBLISH
X-PUBLISHED-TTL:P3D
REFRESH-INTERVAL:P3D
CALSCALE:GREGORIAN
BEGIN:VEVENT
DTSTART:20141021T130000Z
DTEND:20141021T213000Z
X-MICROSOFT-CDO-ALLDAYEVENT:FALSE
SUMMARY:Business Technology Conference (BTC)
DESCRIPTION:The Business Technology Conference (BTC)\, powered by CEC\, is known as one of the best technology events in the Midwest. The event\, held annually in Iowa and Wisconsin\, provides free education about technology ideas\, solutions\, and services that increase efficiency\, communication\, safety\, business continuity\, and productivity for your organization. Featured keynote Michael Rogers will present on the compelling future of technology\, with additional educational sessions from a variety of experts intheir fields. A Technology Showcase offers one-on-one time with global technology manufacturers andhands-on demonstrations of the latest technology solutions. Who should attend this free event? Building owners and facilities managers\, security directors\, public safety officials\, IT directors and network administrators\, superintendents\, and C-suite executives who are responsible for making technology decisions within their organizations. \n\nVisit www.btciowa.com for a complete schedule of eventsand to register for this FREE event today!
X-ALT-DESC;FMTTYPE=text/html:The Business Technology Conference (BTC)\, powered by CEC\, is known as one of the best technology events in the Midwest. The event\, held annually in Iowa and Wisconsin\, provides free education about technology ideas\, solutions\, and services that increase efficiency\, communication\, safety\, business continuity\, and productivity for your organization. Featured keynote Michael Rogers will present on the compelling future of technology\, with additional educational sessions from a variety of experts intheir fields. A Technology Showcase offers one-on-one time with global technology manufacturers andhands-on demonstrations of the latest technology solutions. Who should attend this free event? Building owners and facilities managers\, security directors\, public safety officials\, IT directors and network administrators\, superintendents\, and C-suite executives who are responsible for making technology decisions within their organizations. \n\nVisit www.btciowa.com for a complete schedule of eventsand to register for this FREE event today!\n
LOCATION:Coralville Marriott & Convention Center300 East 9th Street Coralville\, IA 52241
UID:e.2843.23
SEQUENCE:3
DTSTAMP:20260422T174107Z
URL:https://member.quadcitieschamber.com/events/details/business-technology-conference-btc-10-21-2014-23
END:VEVENT

END:VCALENDAR
