BEGIN:VCALENDAR
VERSION:2.0
PRODID:-//ChamberMaster//Event Calendar 2.0//EN
METHOD:PUBLISH
X-PUBLISHED-TTL:P3D
REFRESH-INTERVAL:P3D
CALSCALE:GREGORIAN
BEGIN:VEVENT
DTSTART:20090715T050000Z
DTEND:20090715T050000Z
X-MICROSOFT-CDO-ALLDAYEVENT:FALSE
SUMMARY:Business XChange
DESCRIPTION:Business XChange
X-ALT-DESC;FMTTYPE=text/html:Business XChange
LOCATION:
UID:e.2843.3706
SEQUENCE:3
DTSTAMP:20260424T060903Z
URL:https://member.quadcitieschamber.com/events/details/business-xchange-07-15-2009-3706
END:VEVENT

END:VCALENDAR
