BEGIN:VCALENDAR
VERSION:2.0
PRODID:-//ChamberMaster//Event Calendar 2.0//EN
METHOD:PUBLISH
X-PUBLISHED-TTL:P3D
REFRESH-INTERVAL:P3D
CALSCALE:GREGORIAN
BEGIN:VEVENT
DTSTART:20091217T060000Z
DTEND:20091217T060000Z
X-MICROSOFT-CDO-ALLDAYEVENT:FALSE
SUMMARY:Business XChange
DESCRIPTION:Business XChange
X-ALT-DESC;FMTTYPE=text/html:Business XChange
LOCATION:
UID:e.2843.3793
SEQUENCE:3
DTSTAMP:20260424T103950Z
URL:https://member.quadcitieschamber.com/events/details/business-xchange-12-17-2009-3793
END:VEVENT

END:VCALENDAR
