BEGIN:VCALENDAR
VERSION:2.0
PRODID:-//ChamberMaster//Event Calendar 2.0//EN
METHOD:PUBLISH
X-PUBLISHED-TTL:P3D
REFRESH-INTERVAL:P3D
CALSCALE:GREGORIAN
BEGIN:VEVENT
DTSTART:20090610T050000Z
DTEND:20090610T050000Z
X-MICROSOFT-CDO-ALLDAYEVENT:FALSE
SUMMARY:Business XChange - CANCELLED
DESCRIPTION:Business XChange - CANCELLED
X-ALT-DESC;FMTTYPE=text/html:Business XChange - CANCELLED
LOCATION:
UID:e.2843.3705
SEQUENCE:3
DTSTAMP:20260424T073732Z
URL:https://member.quadcitieschamber.com/events/details/business-xchange-cancelled-06-10-2009-3705
END:VEVENT

END:VCALENDAR
