BEGIN:VCALENDAR
VERSION:2.0
PRODID:-//ChamberMaster//Event Calendar 2.0//EN
METHOD:PUBLISH
X-PUBLISHED-TTL:P3D
REFRESH-INTERVAL:P3D
CALSCALE:GREGORIAN
BEGIN:VEVENT
DTSTART:20130801T210000Z
DTEND:20130801T213000Z
X-MICROSOFT-CDO-ALLDAYEVENT:FALSE
SUMMARY:Caliber Funding Home Loans Ribbon Cutting
DESCRIPTION:Please help Caliber Funding Home Loans celebrate their Grand Opening on Thursday\, August 1st at 4:00 p.m.  They are located at 1850 E. 53rd Street in the Waterford Building.  Caliber Funding Home Loans is a new business/member that offers 6 months extended lock programs for new construction\, VA\, FHA\, Conventional\, USDA\, IFA\, IDHA...You name it\, they have the product you are looking for. They strive to educate clients on hwo to make thir dream of home ownership a reality.  For more information\, please visit www.caliberfunding.com.
X-ALT-DESC;FMTTYPE=text/html:<DIV style="FONT-FAMILY: Arial">Please help Caliber Funding Home Loans celebrate their Grand Opening on Thursday\, August 1st at 4:00 p.m. </DIV><DIV style="FONT-FAMILY: Arial">&nbsp\;</DIV><DIV style="FONT-FAMILY: Arial">They are located at 1850 E. 53rd Street in the Waterford Building. </DIV><DIV style="FONT-FAMILY: Arial">&nbsp\;</DIV><DIV style="FONT-FAMILY: Arial">Caliber Funding Home Loans is a new business/member that offers 6 months extended lock programs for new construction\, VA\, FHA\, Conventional\, USDA\, IFA\, IDHA...You name it\, they have the product you are looking for. They strive to educate clients on hwo to make thir dream of home ownership a reality. </DIV><DIV style="FONT-FAMILY: Arial">&nbsp\;</DIV><DIV style="FONT-FAMILY: Arial">For more information\, please visit <A href="http://www.caliberfunding.com">www.caliberfunding.com</A>.</DIV><DIV style="FONT-FAMILY: Arial">&nbsp\;</DIV>
LOCATION:Caliber Funding1850 E. 53rd St. Suite 6 Davenport\, IA 52807
UID:e.2843.624
SEQUENCE:3
DTSTAMP:20260421T183927Z
URL:https://member.quadcitieschamber.com/events/details/caliber-funding-home-loans-ribbon-cutting-08-01-2013-624
END:VEVENT

END:VCALENDAR
