BEGIN:VCALENDAR
VERSION:2.0
PRODID:-//ChamberMaster//Event Calendar 2.0//EN
METHOD:PUBLISH
X-PUBLISHED-TTL:P3D
REFRESH-INTERVAL:P3D
CALSCALE:GREGORIAN
BEGIN:VEVENT
DTSTART;VALUE=DATE:20190529
DTEND;VALUE=DATE:20190601
TRANSP:TRANSPARENT
X-MICROSOFT-CDO-ALLDAYEVENT:TRUE
SUMMARY:Calling All Youth Leaders ages 16-22 TWO RIVERS YMCA 175 EXCEL LONDON August 4 - August 8 2019
DESCRIPTION:THE TWO RIVERS YMCA IS LOOKING TO TAKE 8 YOUTH LEADERS TO LONDON\, ENGLAND AUGUST 4-8\, 2019.   ALL EXPENSES PAID!!!!!  Applications due May 31\, 2019!!!! \n\nAPPLY TODAY!!!\nhttps://www.tworiversymca.org/ymca175\n\n\n\nREQUIREMENTS:\n\n  16-22 years old\n\n  Illinois QC area high school current student or\n\nalumnus attending a QC area college.\n\n  Willing to serve as a YMCA youth leader in\n\nYouth & Government\, Youth Leadership Council\,\n\nor other YMCA volunteer position.\n\n\n\nFind more information about YMCA 175 here \n\nYMCA175.com
X-ALT-DESC;FMTTYPE=text/html:THE TWO RIVERS YMCA IS LOOKING TO TAKE 8 YOUTH LEADERS TO LONDON\, ENGLAND AUGUST 4-8\, 2019. &nbsp\; ALL EXPENSES PAID!!!!!&nbsp\; Applications due <span style="color:#FF0000">May 31\, 2019</span>!!!!&nbsp\;<br />\nAPPLY TODAY!!!\n<div><span style="color:rgb(56\, 88\, 152)\; font-family:verdana\,sans-serif\; font-size:12pt"><a href="https://www.tworiversymca.org/ymca175?fbclid=IwAR1UFdwfmtf2qSFDl6aT3W2UMb9DD-aMs775PGOkgjWcmork9qrii0ma8jE" target="_blank"><span style="color:rgb(56\, 88\, 152)"><span style="font-size:12px">https://www.tworiversymca.org/ymca175</span></span></a></span><br />\n<br />\nREQUIREMENTS:<br />\n&bull\; 16-22 years old<br />\n&bull\; Illinois QC area high school current student or<br />\nalumnus attending a QC area college.<br />\n&bull\; Willing to serve as a YMCA youth leader in<br />\nYouth &amp\; Government\, Youth Leadership Council\,<br />\nor other YMCA volunteer position.<br />\n<br />\nFind more information about YMCA 175 here&nbsp\;<br />\n<span style="font-size:12px"><span style="color:rgb(28\, 30\, 33)\; font-family:verdana\,sans-serif"><a href="https://l.facebook.com/l.php?u=http%3A%2F%2FYMCA175.com%2F%3Ffbclid%3DIwAR2o7gMTVfolfVKX6iZBPuEFae-446FVuRfde8P8X5ElZcL4LqOU3qpz9sw&amp\;h=AT0Mg8uBQF-imIdfIjwNMVYRHATXlPOPcnFXwu8EgTnD7v1ocZEkhWFplmmElyL2YdUxuS5PYkc-iHJCFGh8p7Stc2icBMKcRas08c4g04FSFLSgQ5h95BxTAZ1Ykng9bMrb7gbh0QO43yEQAu_yRKqJQOzh6-4RrjvIr1F2hKcJz9C7gWngDbVj4HRHyUux9LE7vPFeh96ZKWaDCZKZju5A_Avi9XpnTh_Of1dfbBW0ovQMayZJHK8ae3yATc5UarkEQmNfE3cxEsRFoL1QVSvaaoWC1NUqv4UKKkevZfZVxbeX_2lKRH7qLUv6G88z4b28CvcPDhMhyVO3olRvtl4tL6xrP8yomaVb6XBbNOe5cyHu7MgXOniSL5ALsj0vYNOVUCAdtteiOukzXrD_HI7O45cMGAlUCPfJ3VF9p-QrZcihELQdrAloNpnzN19RlceowzIlxWF9LyealWJXlBljUkW5VCEWZb4E6-3qg4a-NurIHg47OggsYLmThF8pSVUpEn82_UYgw0Qh49zQF5mCtgplGe2QSPcckB7YTeL3_lHRTvathjo7-ywDVNmNYB-hQyGSCTkRpuHUsRgRn9eloEMTBetSPKoBt7WmhTBtLO2o4-nTmk04JUCNVqdSzCTf" target="_blank"><span style="color:rgb(56\, 88\, 152)">YMCA175.com</span></a></span></span></div>\n
LOCATION:YMCA 175 EXCEL LONDON London\, England
UID:e.2843.15379
SEQUENCE:3
DTSTAMP:20260422T145940Z
URL:https://member.quadcitieschamber.com/events/details/calling-all-youth-leaders-ages-16-22-two-rivers-ymca-175-excel-london-august-4-august-8-2019-15379
END:VEVENT

END:VCALENDAR
