BEGIN:VCALENDAR
VERSION:2.0
PRODID:-//ChamberMaster//Event Calendar 2.0//EN
METHOD:PUBLISH
X-PUBLISHED-TTL:P3D
REFRESH-INTERVAL:P3D
CALSCALE:GREGORIAN
BEGIN:VEVENT
DTSTART:20190301T233000Z
DTEND:20190302T030000Z
X-MICROSOFT-CDO-ALLDAYEVENT:FALSE
SUMMARY:Can't Dodge This Dodgeball Tournament
DESCRIPTION:Dodgeball  Tournament to support the Children's Advocacy Center Serving Rock Island County. Teams of 6 to 8 players/ $80.00 a team.  Awards for 1st place\, 2nd place\, best costume and best team name. Registration deadline is February 22nd. To register go to http://getmeregistered.com/RICCACDodgeballTournament \n\n\n\nThe Children's Advocacy Center is a not-for-profit that aims to reduce trauma to children who are victims of sexual and physical abuse by working through a multi-disciplinary team investigation.
X-ALT-DESC;FMTTYPE=text/html:Dodgeball&nbsp\; Tournament to support the Children&#39\;s Advocacy Center Serving Rock Island County. Teams of 6 to 8 players/ $80.00 a team.&nbsp\; Awards for 1st place\, 2nd place\, best costume and best team name. Registration deadline is February 22nd. To register go to http://getmeregistered.com/RICCACDodgeballTournament&nbsp\;<br />\n<br />\nThe Children&#39\;s Advocacy Center is a not-for-profit that aims to reduce trauma to children who are victims of sexual and physical abuse by working through a multi-disciplinary team investigation.&nbsp\;
LOCATION:Glenview Middle School 3100 7th St East Moline Il 61244
UID:e.2843.13753
SEQUENCE:3
DTSTAMP:20260422T182530Z
URL:https://member.quadcitieschamber.com/events/details/can-t-dodge-this-dodgeball-tournament-13753
END:VEVENT

END:VCALENDAR
