BEGIN:VCALENDAR
VERSION:2.0
PRODID:-//ChamberMaster//Event Calendar 2.0//EN
METHOD:PUBLISH
X-PUBLISHED-TTL:P3D
REFRESH-INTERVAL:P3D
CALSCALE:GREGORIAN
BEGIN:VEVENT
DTSTART:20121116T000000Z
DTEND:20121116T010000Z
X-MICROSOFT-CDO-ALLDAYEVENT:FALSE
SUMMARY:Can You Control the Ups and Downs of Blood Sugar Speaker's
DESCRIPTION:Join us for this critical program on the epidemic of metabolic syndrome\, diabetes and obesity as a national health crisis.\nLearn how you can keep these conditions from ruining your family's health:\n-The perils of yo-yo dieting\n-effective solutions for weight management\n-mood swings and blood sugar\n-metabolic syndrome as a precursor to diabetes\n-reversing diabetes through lifestyle and medicine\n-preventing diabetes\n-avoiding complications of diabetes such as blindness\, kidney failure\, neuropathy and cardiovascular disease\n\nPresented by: Dr. Rameshkumar Raman from Endocrine Associates of the Quad Cities
X-ALT-DESC;FMTTYPE=text/html:Join us for this critical program on the epidemic of metabolic syndrome\, diabetes and obesity as a national health crisis.\nLearn how you can keep these conditions from ruining your family's health:\n-The perils of yo-yo dieting\n-effective solutions for weight management\n-mood swings and blood sugar\n-metabolic syndrome as a precursor to diabetes\n-reversing diabetes through lifestyle and medicine\n-preventing diabetes\n-avoiding complications of diabetes such as blindness\, kidney failure\, neuropathy and cardiovascular disease\n\nPresented by: Dr. Rameshkumar Raman from Endocrine Associates of the Quad Cities\n
LOCATION:
UID:e.2843.99
SEQUENCE:3
DTSTAMP:20260421T152737Z
URL:https://member.quadcitieschamber.com/events/details/can-you-control-the-ups-and-downs-of-blood-sugar-speaker-s-11-15-2012-99
END:VEVENT

END:VCALENDAR
