BEGIN:VCALENDAR
VERSION:2.0
PRODID:-//ChamberMaster//Event Calendar 2.0//EN
METHOD:PUBLISH
X-PUBLISHED-TTL:P3D
REFRESH-INTERVAL:P3D
CALSCALE:GREGORIAN
BEGIN:VEVENT
DTSTART:20090915T050000Z
DTEND:20090915T050000Z
X-MICROSOFT-CDO-ALLDAYEVENT:FALSE
SUMMARY:CANCEL Business Etiquette - Government Contracting-LIMIT 50
DESCRIPTION:CANCEL Business Etiquette - Government Contracting-LIMIT 50
X-ALT-DESC;FMTTYPE=text/html:CANCEL Business Etiquette - Government Contracting-LIMIT 50
LOCATION:
UID:e.2843.3752
SEQUENCE:3
DTSTAMP:20260424T061722Z
URL:https://member.quadcitieschamber.com/events/details/cancel-business-etiquette-government-contracting-limit-50-09-15-2009-3752
END:VEVENT

END:VCALENDAR
