BEGIN:VCALENDAR
VERSION:2.0
PRODID:-//ChamberMaster//Event Calendar 2.0//EN
METHOD:PUBLISH
X-PUBLISHED-TTL:P3D
REFRESH-INTERVAL:P3D
CALSCALE:GREGORIAN
BEGIN:VEVENT
DTSTART:20180629T143000Z
DTEND:20180629T153000Z
X-MICROSOFT-CDO-ALLDAYEVENT:FALSE
SUMMARY:Canceled - FREE Market Research to grow your Business
DESCRIPTION:CLASS IS FULL\, PLEASE SIGN UP FOR THE NEXT ONE\n\n\n\nThe Quad Cities Chamber\, in partnership with Eastern Iowa Community Colleges\, offers access to FREE market research tools to help grow your business.
X-ALT-DESC;FMTTYPE=text/html:<br />\n<span style="font-size:16px\;"><span style="font-family:arial\;"><span style="color:#FF0000\;"><strong>CLASS IS FULL\, PLEASE SIGN UP FOR THE NEXT ONE</strong></span><br />\n<br />\nThe Quad Cities Chamber\, in partnership with Eastern Iowa Community Colleges\, offers access to FREE market research tools to help grow your business.</span></span><br />\n<br />\n&nbsp\;
LOCATION:331 W. 3rd Street. Davenport IA PLEASE REGISTER DUE TO SPACE
UID:e.2843.13308
SEQUENCE:3
DTSTAMP:20260423T092934Z
URL:https://member.quadcitieschamber.com/events/details/canceled-free-market-research-to-grow-your-business-06-29-2018-13308
END:VEVENT

END:VCALENDAR
