BEGIN:VCALENDAR
VERSION:2.0
PRODID:-//ChamberMaster//Event Calendar 2.0//EN
METHOD:PUBLISH
X-PUBLISHED-TTL:P3D
REFRESH-INTERVAL:P3D
CALSCALE:GREGORIAN
BEGIN:VEVENT
DTSTART:20111208T140000Z
DTEND:20111208T180000Z
X-MICROSOFT-CDO-ALLDAYEVENT:FALSE
SUMMARY:CANCELLED: Foreign Trade Zone Seminar
DESCRIPTION:The Foreign Trade Zone Seminar scheduled for Thursday\, December 8th has been cancelled.  Please look for details for the Seminar in 2012.
X-ALT-DESC;FMTTYPE=text/html:<P style="MARGIN: 0in 0in 0pt\; FONT-FAMILY: Arial" class=MsoNormal align=left><SPAN style="COLOR: #1f497d"><FONT face=Calibri><STRONG><FONT color=#0f0f0f size=4>The Foreign Trade Zone Seminar scheduled for Thursday\, December 8th has been <FONT color=#ff0000>cancelled</FONT>. </FONT></STRONG></FONT></SPAN></P><P style="MARGIN: 0in 0in 0pt\; FONT-FAMILY: Arial" class=MsoNormal align=left><SPAN style="COLOR: #1f497d"><STRONG><FONT color=#0f0f0f size=4 face=Calibri></FONT></STRONG></SPAN>&nbsp\;</P><P style="MARGIN: 0in 0in 0pt\; FONT-FAMILY: Arial" class=MsoNormal align=left><SPAN style="COLOR: #1f497d"><FONT color=#0f0f0f face=Calibri><FONT size=4>Please look for details for the Seminar in 2012.<STRONG> </STRONG></FONT></FONT></SPAN></P>
LOCATION:Stoney Creek Inn & Conference Center101 18th Street Moline\, IL 61265
UID:e.2843.253
SEQUENCE:3
DTSTAMP:20260422T111213Z
URL:https://member.quadcitieschamber.com/events/details/cancelled-foreign-trade-zone-seminar-12-08-2011-253
END:VEVENT

END:VCALENDAR
