BEGIN:VCALENDAR
VERSION:2.0
PRODID:-//ChamberMaster//Event Calendar 2.0//EN
METHOD:PUBLISH
X-PUBLISHED-TTL:P3D
REFRESH-INTERVAL:P3D
CALSCALE:GREGORIAN
BEGIN:VEVENT
DTSTART:20140613T180000Z
DTEND:20140613T193000Z
X-MICROSOFT-CDO-ALLDAYEVENT:FALSE
SUMMARY:Care Animal Center Grand Opening Ribbon Cutting
DESCRIPTION:Care Animal Center\, 1502 W. Kimberly Rd.\, will host a ribbon cutting ceremony to celebrate the grand opening of their new location on Friday\, June 13th at 1:00pm.   Care Animal Center features laser surgery\, digital x-ray\, ultrasound and a drive-through window.  Their motto is "compassionate\, quality and affordable care."   For more information\, please visit www.careanimalcenter.com.
X-ALT-DESC;FMTTYPE=text/html:<FONT face=Calibri><P style="MARGIN: 0in 0in 0pt" class=MsoNormal></P><P></FONT></P><FONT face=Calibri><P style="MARGIN: 0in 0in 0pt" class=MsoNormal>Care Animal Center\, 1502 W. Kimberly Rd.\, will host a ribbon cutting ceremony to celebrate the grand opening of their new location on Friday\, June 13<SUP>th</SUP> at 1:00pm.<SPAN style="mso-spacerun: yes">&nbsp\; </SPAN><?xml:namespace prefix = o ns = "urn:schemas-microsoft-com:office:office" /><o:p></o:p></P><P style="MARGIN: 0in 0in 0pt" class=MsoNormal><o:p>&nbsp\;</o:p></P><P style="MARGIN: 0in 0in 0pt" class=MsoNormal>Care Animal Center features laser surgery\, digital x-ray\, ultrasound and a drive-through window.<SPAN style="mso-spacerun: yes">&nbsp\; </SPAN>Their motto is "compassionate\, quality and affordable care."<SPAN style="mso-spacerun: yes">&nbsp\; </SPAN><o:p></o:p></P><P style="MARGIN: 0in 0in 0pt" class=MsoNormal><o:p>&nbsp\;</o:p></P><P style="MARGIN: 0in 0in 0pt" class=MsoNormal>For more information\, please visit <A href="http://www.careanimalcenter.com"><FONT color=#0000ff face="Times New Roman">www.careanimalcenter.com</FONT></A>.<o:p></o:p></P></FONT>
LOCATION:Care Animal Center1502 W. Kimberly Rd. Davenport\, IA 52806
UID:e.2843.806
SEQUENCE:3
DTSTAMP:20260422T111826Z
URL:https://member.quadcitieschamber.com/events/details/care-animal-center-grand-opening-ribbon-cutting-06-13-2014-806
END:VEVENT

END:VCALENDAR
