BEGIN:VCALENDAR
VERSION:2.0
PRODID:-//ChamberMaster//Event Calendar 2.0//EN
METHOD:PUBLISH
X-PUBLISHED-TTL:P3D
REFRESH-INTERVAL:P3D
CALSCALE:GREGORIAN
BEGIN:VEVENT
DTSTART:20200728T160000Z
DTEND:20200728T180000Z
X-MICROSOFT-CDO-ALLDAYEVENT:FALSE
SUMMARY:CC&B Food Truck at the My Place Hotel Open House
DESCRIPTION:Got lunch plans yet? Now you do! You're invited for some tasty BBQ! \n\n\n\nCC&B Mobile Food will have some of the finest\, mouth-watering\, most-satisfyin' BBQ you've ever had available for purchase in our parking lot! \n\n\n\nBefore your order is served up you'll get an opportunity to come on in and take a tour of our beautiful property and spacious rooms. You'll get to find out what the My Place Hotel Brand is all about and you'll get an opportunity to win a free night's stay at our property too!\n\n\n\nUpon arrival stop by the My Place Hotel table near the CC&B Food Truck to pick up your passport that you can fill out to get registered for our Stay Rewarded program and some great prizes! \n\n\n\nThe Details\n\nWhen: Tuesday\, July 28th from 11:00 am to 1:00 pm\n\nWhere: My Place Hotel - 4653 Progress Dr - Davenport\, IA\n\nWho: You\, Us\, and B.B.Q.\n\nWhy: Because this food is GOOD and you'll love our hotel!
X-ALT-DESC;FMTTYPE=text/html:<span style="color:rgb(29\, 33\, 41)\; font-family:helvetica\,arial\,sans-serif\; font-size:14px">Got lunch plans yet? Now you do! You&#39\;re invited for some tasty BBQ! </span><br />\n<br />\n<a href="https://www.facebook.com/CCBMF4/" style="color: rgb(56\, 88\, 152)\; cursor: pointer\; text-decoration-line: none\; font-family: Helvetica\, Arial\, sans-serif\; font-size: 14px\; white-space: pre-wrap\;" target="_blank">CC&amp\;B Mobile Food</a><span style="color:rgb(29\, 33\, 41)\; font-family:helvetica\,arial\,sans-serif\; font-size:14px"> will have some of the finest\, mouth-watering\, most-satisfyin&#39\; BBQ you&#39\;ve ever had available for purchase in our parking lot! </span><br />\n<br />\n<span style="color:rgb(29\, 33\, 41)\; font-family:helvetica\,arial\,sans-serif\; font-size:14px">Before your order is served up you&#39\;ll get an opportunity to come on in and take a tour of our beautiful property and spacious rooms. You&#39\;ll get to find out what the My Place Hotel Brand is all about and you&#39\;ll get an opportunity to win a free night&#39\;s stay at our property too!</span><br />\n<br />\n<span style="color:rgb(29\, 33\, 41)\; font-family:helvetica\,arial\,sans-serif\; font-size:14px">Upon arrival stop by the My Place Hotel table near the CC&amp\;B Food Truck to pick up your passport that you can fill out to get registered for our Stay Rewarded program and some great prizes! </span><br />\n<br />\n<span style="color:rgb(29\, 33\, 41)\; font-family:helvetica\,arial\,sans-serif\; font-size:14px">The Details</span><br />\n<span style="color:rgb(29\, 33\, 41)\; font-family:helvetica\,arial\,sans-serif\; font-size:14px">When: Tuesday\, July 28th from 11:00 am to 1:00 pm</span><br />\n<span style="color:rgb(29\, 33\, 41)\; font-family:helvetica\,arial\,sans-serif\; font-size:14px">Where: My Place Hotel - 4653 Progress Dr - Davenport\, IA</span><br />\n<span style="color:rgb(29\, 33\, 41)\; font-family:helvetica\,arial\,sans-serif\; font-size:14px">Who: You\, Us\, and B.B.Q.</span><br />\n<span style="color:rgb(29\, 33\, 41)\; font-family:helvetica\,arial\,sans-serif\; font-size:14px">Why: Because this food is GOOD and you&#39\;ll love our hotel!</span>
LOCATION:My Place Hotel 4653 Progress Dr Davenport\, IA 52807
UID:e.2843.17893
SEQUENCE:3
DTSTAMP:20260421T160306Z
URL:https://member.quadcitieschamber.com/events/details/cc-b-food-truck-at-the-my-place-hotel-open-house-17893
END:VEVENT

END:VCALENDAR
