BEGIN:VCALENDAR
VERSION:2.0
PRODID:-//ChamberMaster//Event Calendar 2.0//EN
METHOD:PUBLISH
X-PUBLISHED-TTL:P3D
REFRESH-INTERVAL:P3D
CALSCALE:GREGORIAN
BEGIN:VEVENT
DTSTART:20180502T233000Z
DTEND:20180503T003000Z
X-MICROSOFT-CDO-ALLDAYEVENT:FALSE
SUMMARY:Challenges of caregiving at Senior Star
DESCRIPTION:Senior Star at Elmore Place is pleased to invite the Quad Cities community to the most important campaign of former Wisconsin Gov. Martin J. Schreiber's life.  He will be discussing the challenges of being an Alzheimer's caregiver to the community on May 2nd at 6:30 PM at 4500 Elmore Avenue\, Davenport.\n\n \n\nSchreiber will share what he has learned\, which is included in his award-winning book\, My Two Elaines: Learning\, Coping\, and Surviving as an Alzheimer's Caregiver\, so others don't experience the learning curve he did. The free presentation will include time for questions and suggestions from other caregivers.\n\n\n\nMy Two Elaines is a guide for Alzheimer's families and caregivers as well as a love story that spans more than 60 years. Schreiber's wife Elaine was diagnosed with Alzheimer's disease 13 years ago and since then\, he has worked tirelessly to be a caregiver and loving spouse to someone who no longer recognizes him. He refers to the woman with whom he fell in love in high school\, married\, raised a family and ran political campaigns as his first Elaine\, and today's sweet\, sensitive woman who remembers nothing about their past as his second. He speaks about the need for caregivers to build support systems and self-care\, which are among the things he failed to do early on.\n\n \n\nLike many thrown into the heartbreaking Alzheimer's world\, Schreiber knew little about the disease. What he found most disturbing was that even healthcare providers don't know the degree to which Alzheimer's affects the person who lives with it and his or her family. "If Alzheimer's is bad\, ignorance of the disease is worse\," he said.\n\n \n\nFor more information about Senior Star at Elmore Place or to schedule a tour\, call 563.359.0100 or visit the website at www.seniorstar.com.
X-ALT-DESC;FMTTYPE=text/html:<span style="font-size:16px\;"><span style="font-family:calibri\,sans-serif\;">Senior Star at Elmore Place is pleased to invite the Quad Cities community to the most important campaign of former Wisconsin Gov. Martin J. Schreiber&rsquo\;s life.&nbsp\; He will be discussing the challenges of being an Alzheimer&rsquo\;s caregiver to the community on May 2<sup>nd</sup> at 6:30 PM at 4500 Elmore Avenue\, Davenport.</span><br />\n&nbsp\;<br />\n<span style="font-family:calibri\,sans-serif\;">Schreiber will share what he has learned\, which is included in his award-winning book\,&nbsp\;My Two Elaines: Learning\, Coping\, and Surviving as an Alzheimer&rsquo\;s Caregiver\, so others don&rsquo\;t experience the learning curve he did. The free presentation will include time for questions and suggestions from other caregivers.<br />\n<br />\nMy Two Elaines is a guide for Alzheimer&#39\;s families and caregivers as well as a love story that spans more than 60 years. Schreiber&rsquo\;s wife Elaine was diagnosed with Alzheimer&rsquo\;s disease 13 years ago and since then\, he has worked tirelessly to be a caregiver and loving spouse to someone who no longer recognizes him. He refers to the woman with whom he fell in love in high school\, married\, raised a family and ran political campaigns as his first Elaine\, and today&rsquo\;s sweet\, sensitive woman who remembers nothing about their past as his second. He speaks about the need for caregivers to build support systems and self-care\, which are among the things he failed to do early on.</span><br />\n&nbsp\;<br />\n<span style="font-family:calibri\,sans-serif\;">Like many thrown into the heartbreaking Alzheimer&#39\;s world\, Schreiber knew little about the disease. What he found most disturbing was that even healthcare providers don&rsquo\;t know the degree to which Alzheimer&#39\;s affects&nbsp\;the&nbsp\;person who lives with it and his or her family. &ldquo\;If Alzheimer&rsquo\;s is bad\, ignorance of the disease is worse\,&quot\; he said.</span><br />\n&nbsp\;<br />\n<span style="font-family:calibri\,sans-serif\;">For more information about Senior Star at Elmore Place or to schedule a tour\, call </span><span style="color:black\;"><span style="font-family:calibri\,sans-serif\;">563.359.0100 </span></span><span style="font-family:calibri\,sans-serif\;">or visit the website at www.seniorstar.com.</span></span><br />\n&nbsp\;
LOCATION:Senior Star at Elmore Place-4500 Elmore Avenue\, Davenport.
UID:e.2843.13205
SEQUENCE:3
DTSTAMP:20260423T110210Z
URL:https://member.quadcitieschamber.com/events/details/challenges-of-caregiving-at-senior-star-13205
END:VEVENT

END:VCALENDAR
