BEGIN:VCALENDAR
VERSION:2.0
PRODID:-//ChamberMaster//Event Calendar 2.0//EN
METHOD:PUBLISH
X-PUBLISHED-TTL:P3D
REFRESH-INTERVAL:P3D
CALSCALE:GREGORIAN
BEGIN:VEVENT
DTSTART:20130301T060000Z
DTEND:20130301T060000Z
X-MICROSOFT-CDO-ALLDAYEVENT:FALSE
SUMMARY:Chamber International Trip 2013
DESCRIPTION:Chamber International Trip 2013
X-ALT-DESC;FMTTYPE=text/html:Chamber International Trip 2013
LOCATION:
UID:e.2843.1648
SEQUENCE:3
DTSTAMP:20260421T053925Z
URL:https://member.quadcitieschamber.com/events/details/chamber-international-trip-2013-03-01-2013-1648
END:VEVENT

END:VCALENDAR
