BEGIN:VCALENDAR
VERSION:2.0
PRODID:-//ChamberMaster//Event Calendar 2.0//EN
METHOD:PUBLISH
X-PUBLISHED-TTL:P3D
REFRESH-INTERVAL:P3D
CALSCALE:GREGORIAN
BEGIN:VEVENT
DTSTART:20120313T050000Z
DTEND:20120320T050000Z
X-MICROSOFT-CDO-ALLDAYEVENT:FALSE
SUMMARY:Chamber International Trip - Istanbul\, Turkey
DESCRIPTION:Straddling two continents\, Europe and Asia\, is a country that is hip and cosmopolitan\, where all the cultures of the ancient world meet\, overlap and blend into something unexpected.  Be awestruck before the elegant grandeur of the Blue Mosque\, sample the exotic flavors in Turkish cuisine\, walk in the ruins of Ephesus\, smell the intoxicating aromas of the Spice Bazaar and explore incredible Cappadocia.  Embark on this fabulous journey with leaders from the Quad Cities.Trip includes:  9 days and 7 nights in a centrally located first class hotel in Istanbul\, Turkey\, round trip airfare from Chicago O’Hare International Airport\, daily breakfast\, one lunch and four dinners\, sightseeing with modern motor coaches for all transfers and tours. Please click here for more information\, and to register.
X-ALT-DESC;FMTTYPE=text/html:<P style="TEXT-ALIGN: center\; MARGIN: 0in 0in 10pt" class=MsoNormal align=center>Straddling two continents\, Europe and Asia\, is a country that is hip and cosmopolitan\, where all the cultures of the ancient world meet\, overlap and blend into something unexpected.<SPAN style="mso-spacerun: yes">&nbsp\; </SPAN>Be awestruck before the elegant grandeur of the Blue Mosque\, sample the exotic flavors in Turkish cuisine\, walk in the ruins of Ephesus\, smell the intoxicating aromas of the Spice Bazaar and explore incredible Cappadocia.<SPAN style="mso-spacerun: yes">&nbsp\; </SPAN>Embark on this fabulous journey with leaders from the Quad Cities.</P><P style="TEXT-ALIGN: center\; MARGIN: 0in 0in 10pt" class=MsoNormal align=center>Trip includes:<SPAN style="mso-spacerun: yes">&nbsp\; </SPAN>9 days and 7 nights in a centrally located first class hotel in Istanbul\, Turkey\, round trip airfare from Chicago O’Hare International Airport\, daily breakfast\, one lunch and four dinners\, sightseeing with modern motor coaches for all transfers and tours.</P><P style="TEXT-ALIGN: center\; MARGIN: 0in 0in 10pt" class=MsoNormal align=center>&nbsp\;</P><P style="MARGIN: 0in 0in 10pt" class=MsoNormal align=center>Please click <A href="http://www.quadcitieschamber.com/sbalinks.html?reaction=download&amp\;id=381">here</A>&nbsp\;for more information\, and to register. &nbsp\;</P>
LOCATION:Istanbul\, Turkey
UID:e.2843.237
SEQUENCE:3
DTSTAMP:20260422T013333Z
URL:https://member.quadcitieschamber.com/events/details/chamber-international-trip-istanbul-turkey-03-13-2012-237
END:VEVENT

END:VCALENDAR
