BEGIN:VCALENDAR
VERSION:2.0
PRODID:-//ChamberMaster//Event Calendar 2.0//EN
METHOD:PUBLISH
X-PUBLISHED-TTL:P3D
REFRESH-INTERVAL:P3D
CALSCALE:GREGORIAN
BEGIN:VEVENT
DTSTART:20140101T060000Z
DTEND:20140101T060000Z
X-MICROSOFT-CDO-ALLDAYEVENT:FALSE
SUMMARY:Chamber Promotional Services
DESCRIPTION:Chamber Promotional Services
X-ALT-DESC;FMTTYPE=text/html:Chamber Promotional Services
LOCATION:
UID:e.2843.1927
SEQUENCE:3
DTSTAMP:20260422T013159Z
URL:https://member.quadcitieschamber.com/events/details/chamber-promotional-services-01-01-2014-1927
END:VEVENT

END:VCALENDAR
