BEGIN:VCALENDAR
VERSION:2.0
PRODID:-//ChamberMaster//Event Calendar 2.0//EN
METHOD:PUBLISH
X-PUBLISHED-TTL:P3D
REFRESH-INTERVAL:P3D
CALSCALE:GREGORIAN
BEGIN:VEVENT
DTSTART:20090610T050000Z
DTEND:20090610T050000Z
X-MICROSOFT-CDO-ALLDAYEVENT:FALSE
SUMMARY:Chamber U: ''Don't Just Survive! Thrive!'' CANCELLED
DESCRIPTION:Chamber U: "Don't Just Survive!  Thrive!" CANCELLED
X-ALT-DESC;FMTTYPE=text/html:Chamber U: "Don't Just Survive!  Thrive!" CANCELLED
LOCATION:
UID:e.2843.3709
SEQUENCE:3
DTSTAMP:20260424T073907Z
URL:https://member.quadcitieschamber.com/events/details/chamber-u-don-t-just-survive-thrive-cancelled-06-10-2009-3709
END:VEVENT

END:VCALENDAR
