BEGIN:VCALENDAR
VERSION:2.0
PRODID:-//ChamberMaster//Event Calendar 2.0//EN
METHOD:PUBLISH
X-PUBLISHED-TTL:P3D
REFRESH-INTERVAL:P3D
CALSCALE:GREGORIAN
BEGIN:VEVENT
DTSTART:20080715T050000Z
DTEND:20090616T050000Z
X-MICROSOFT-CDO-ALLDAYEVENT:FALSE
SUMMARY:Chance to Meet 08-09
DESCRIPTION:Chance to Meet 08-09
X-ALT-DESC;FMTTYPE=text/html:Chance to Meet 08-09
LOCATION:
UID:e.2843.4115
SEQUENCE:3
DTSTAMP:20260424T073939Z
URL:https://member.quadcitieschamber.com/events/details/chance-to-meet-08-09-07-15-2008-4115
END:VEVENT

END:VCALENDAR
