BEGIN:VCALENDAR
VERSION:2.0
PRODID:-//ChamberMaster//Event Calendar 2.0//EN
METHOD:PUBLISH
X-PUBLISHED-TTL:P3D
REFRESH-INTERVAL:P3D
CALSCALE:GREGORIAN
BEGIN:VEVENT
DTSTART:20111115T134500Z
DTEND:20111115T150000Z
X-MICROSOFT-CDO-ALLDAYEVENT:FALSE
SUMMARY:Chance to Meet... Acciona
DESCRIPTION:"A Chance to Meet" features the purchasing decision maker of a large business. The program provides an overview of the featured company's purchasing needs. At the end of the program\, guests will have the opportunity for Q&A and to meet the speaker. ACCIONA’s group of North American companies are subsidiaries of ACCIONA S.A.\, a company that ranks among the world’s leading sustainability-focused businesses centered around renewable energy\, infrastructure and water treatment.  ACCIONA is a 100-year-old\, multi-billion-dollar global company with nearly 35\,000 employees. We operate on five continents in 30 countries and have pioneered renewable energy solutions for nearly 20 years. In North America\, we are divided into three business divisions that allow for a specific focus: ACCIONA Infrastructures\, ACCIONA Agua and ACCIONA Energy.Our speaker for November’s Chance to Meet will be Tom Waggoner\, Purchasing Manager for the West Branch\, Iowa plant of Acciona N.A.  The West Branch plant is focused on wind turbine generator engineering and assembly.  For more detailed information on ACCIONA Windpower's wind turbine technology\, please download our product literature:ACCIONA Windpower brochure AW-1500 product literature and specifications AW-3000 product literature and specifications Contact ACCIONA Windpower for more information on our wind turbine generators."
X-ALT-DESC;FMTTYPE=text/html:<DIV style="FONT-FAMILY: Arial" align=center><P style="TEXT-ALIGN: center\; MARGIN: 0in 0in 0pt" class=MsoNormal align=center><SPAN style="FONT-FAMILY: 'Times New Roman'\,'serif'\; FONT-SIZE: 12pt">"A Chance to Meet" features the purchasing decision maker of a large business. The program provides an overview of the featured company's purchasing needs. At the end of the program\, guests will have the opportunity for Q&amp\;A and to meet the speaker.</SPAN><SPAN style="FONT-FAMILY: 'Arial'\,'sans-serif'\; FONT-SIZE: 12pt"><?xml:namespace prefix = o ns = "urn:schemas-microsoft-com:office:office" /><o:p></o:p></SPAN></P><P style="TEXT-ALIGN: center\; MARGIN: 0in 0in 0pt" class=MsoNormal align=center><SPAN style="FONT-FAMILY: 'Arial'\,'sans-serif'\; FONT-SIZE: 12pt">&nbsp\;<o:p></o:p></SPAN></P><P style="TEXT-ALIGN: center\; MARGIN: 0in 0in 0pt\; mso-margin-top-alt: auto\; mso-margin-bottom-alt: auto" class=MsoNormal align=center><SPAN style="FONT-FAMILY: 'Times New Roman'\,'serif'\; COLOR: black\; FONT-SIZE: 12pt">ACCIONA’s group of North American companies are subsidiaries of ACCIONA S.A.\, a company that ranks among the world’s leading sustainability-focused businesses centered around renewable energy\, infrastructure and water treatment.&nbsp\; ACCIONA is a 100-year-old\, multi-billion-dollar global company with&nbsp\;nearly 35\,000 employees. We operate on five continents in 30 countries and have pioneered renewable energy solutions for nearly 20 years. In North America\, we are divided into three business divisions that allow for a specific focus: ACCIONA Infrastructures\, ACCIONA Agua and ACCIONA Energy.<o:p></o:p></SPAN></P><P style="TEXT-ALIGN: center\; MARGIN: 0in 0in 0pt" class=MsoNormal align=center><SPAN style="FONT-FAMILY: 'Times New Roman'\,'serif'\; COLOR: black\; FONT-SIZE: 12pt">Our speaker for November’s Chance to Meet will be Tom Waggoner\, Purchasing Manager for the West Branch\, Iowa plant of Acciona N.A.&nbsp\; The West Branch plant is focused on wind turbine generator engineering and assembly.&nbsp\; <o:p></o:p></SPAN></P><P style="TEXT-ALIGN: center\; MARGIN: 0in 0in 0pt\; mso-margin-top-alt: auto\; mso-margin-bottom-alt: auto" class=MsoNormal align=center><SPAN style="FONT-FAMILY: 'Times New Roman'\,'serif'\; COLOR: black\; FONT-SIZE: 12pt">For more detailed information on ACCIONA Windpower's wind&nbsp\;turbine technology\, please&nbsp\;download&nbsp\;our product literature:<o:p></o:p></SPAN></P><UL type=disc><LI style="TEXT-ALIGN: center\; MARGIN: 0in 0in 0pt\; COLOR: black\; mso-margin-top-alt: auto\; mso-margin-bottom-alt: auto\; mso-list: l0 level1 lfo1\; tab-stops: list .5in" class=MsoNormal><SPAN style="FONT-SIZE: 12pt\; mso-fareast-font-family: 'Times New Roman'"><A href="http://www.acciona-na.com/About-Us/Our-Projects/U-S-/West-Branch-Wind-Turbine-Generator-Assembly-Plant/ACCIONA_Windpower_brochure_2011%20"><SPAN style="FONT-FAMILY: 'Times New Roman'\,'serif'">ACCIONA Windpower brochure</SPAN></A></SPAN><SPAN style="FONT-FAMILY: 'Times New Roman'\,'serif'\; FONT-SIZE: 12pt\; mso-fareast-font-family: 'Times New Roman'"> <o:p></o:p></SPAN></LI><LI style="TEXT-ALIGN: center\; MARGIN: 0in 0in 0pt\; COLOR: black\; mso-margin-top-alt: auto\; mso-margin-bottom-alt: auto\; mso-list: l0 level1 lfo1\; tab-stops: list .5in" class=MsoNormal><SPAN style="FONT-SIZE: 12pt\; mso-fareast-font-family: 'Times New Roman'"><A href="http://www.acciona-na.com/About-Us/Our-Projects/U-S-/West-Branch-Wind-Turbine-Generator-Assembly-Plant/ACCIONA_Windpower_AW1500FINAL"><SPAN style="FONT-FAMILY: 'Times New Roman'\,'serif'">AW-1500 product literature and specifications</SPAN></A></SPAN><SPAN style="FONT-FAMILY: 'Times New Roman'\,'serif'\; FONT-SIZE: 12pt\; mso-fareast-font-family: 'Times New Roman'"> <o:p></o:p></SPAN></LI><LI style="TEXT-ALIGN: center\; MARGIN: 0in 0in 0pt\; COLOR: black\; mso-margin-top-alt: auto\; mso-margin-bottom-alt: auto\; mso-list: l0 level1 lfo1\; tab-stops: list .5in" class=MsoNormal><SPAN style="FONT-SIZE: 12pt\; mso-fareast-font-family: 'Times New Roman'"><A href="http://www.acciona-na.com/About-Us/Our-Projects/U-S-/West-Branch-Wind-Turbine-Generator-Assembly-Plant/ACCIONA_Windpower_AW3000FINAL"><SPAN style="FONT-FAMILY: 'Times New Roman'\,'serif'">AW-3000 product literature and specifications</SPAN></A></SPAN><SPAN style="FONT-FAMILY: 'Times New Roman'\,'serif'\; FONT-SIZE: 12pt\; mso-fareast-font-family: 'Times New Roman'"> <o:p></o:p></SPAN></LI></UL><P style="TEXT-ALIGN: center\; MARGIN: 0in 0in 0pt\; mso-margin-top-alt: auto\; mso-margin-bottom-alt: auto" class=MsoNormal align=center><SPAN style="COLOR: black\; FONT-SIZE: 12pt"><FONT face=Calibri>Contact </FONT><A href="mailto:sales@acciona-na.com"><FONT face=Calibri>ACCIONA Windpower </FONT></A></SPAN><SPAN style="FONT-SIZE: 12pt"><FONT face=Calibri>for more information on our wind turbine generators.<SPAN style="COLOR: black"><o:p></o:p></SPAN></FONT></SPAN></P>"</DIV>
LOCATION:DHCU Community Credit Union1900 52nd Avenue Moline\, IL 61265
UID:e.2843.146
SEQUENCE:3
DTSTAMP:20260422T111249Z
URL:https://member.quadcitieschamber.com/events/details/chance-to-meet-acciona-11-15-2011-146
END:VEVENT

END:VCALENDAR
