BEGIN:VCALENDAR
VERSION:2.0
PRODID:-//ChamberMaster//Event Calendar 2.0//EN
METHOD:PUBLISH
X-PUBLISHED-TTL:P3D
REFRESH-INTERVAL:P3D
CALSCALE:GREGORIAN
BEGIN:VEVENT
DTSTART:20120221T140000Z
DTEND:20120221T150000Z
X-MICROSOFT-CDO-ALLDAYEVENT:FALSE
SUMMARY:Chance to Meet...Army Corps of Engineers
DESCRIPTION:"A Chance to Meet" features the purchasing decision maker of a large business. The program provides an overview of the featured company's purchasing needs. At the end of the program\, guests will have the opportunity for Q&A and to meet the speaker.
X-ALT-DESC;FMTTYPE=text/html:<DIV style="FONT-FAMILY: Arial" align=center>"A Chance to Meet" features the purchasing decision maker of a large business. The program provides an overview of the featured company's purchasing needs. At the end of the program\, guests will have the opportunity for Q&amp\;A and to meet the speaker.</DIV>
LOCATION:DHCU Community Credit Union1900 52nd Avenue Moline\, IL 61265
UID:e.2843.195
SEQUENCE:3
DTSTAMP:20260422T093611Z
URL:https://member.quadcitieschamber.com/events/details/chance-to-meet-army-corps-of-engineers-02-21-2012-195
END:VEVENT

END:VCALENDAR
