BEGIN:VCALENDAR
VERSION:2.0
PRODID:-//ChamberMaster//Event Calendar 2.0//EN
METHOD:PUBLISH
X-PUBLISHED-TTL:P3D
REFRESH-INTERVAL:P3D
CALSCALE:GREGORIAN
BEGIN:VEVENT
DTSTART:20110419T124500Z
DTEND:20110419T140000Z
X-MICROSOFT-CDO-ALLDAYEVENT:FALSE
SUMMARY:Chance to Meet...Cobham
DESCRIPTION:"A Chance to Meet" features the purchasing decision maker of a large business. The program provides an overview of the featured company's purchasing needs. At the end of the program\, guests will have the opportunity for Q&A and to meet the speaker. This month is your chance to meet Don Hasse\, Small Business Officer of Cobham in Davenport.
X-ALT-DESC;FMTTYPE=text/html:<DIV style="FONT-FAMILY: Arial" align=center>"A Chance to Meet" features the purchasing decision maker of a large business. The program provides an overview of the featured company's purchasing needs. At the end of the program\, guests will have the opportunity for Q&amp\;A and to meet the speaker.</DIV><DIV style="FONT-FAMILY: Arial" align=center>&nbsp\;</DIV><DIV style="FONT-FAMILY: Arial" align=center>This month is your chance to meet Don Hasse\, Small Business Officer of Cobham in Davenport. </DIV>
LOCATION:DHCU Community Credit Union1900 52nd Avenue Moline\, IL 61265
UID:e.2843.139
SEQUENCE:3
DTSTAMP:20260423T024422Z
URL:https://member.quadcitieschamber.com/events/details/chance-to-meet-cobham-04-19-2011-139
END:VEVENT

END:VCALENDAR
