BEGIN:VCALENDAR
VERSION:2.0
PRODID:-//ChamberMaster//Event Calendar 2.0//EN
METHOD:PUBLISH
X-PUBLISHED-TTL:P3D
REFRESH-INTERVAL:P3D
CALSCALE:GREGORIAN
BEGIN:VEVENT
DTSTART:20111018T124500Z
DTEND:20111018T140000Z
X-MICROSOFT-CDO-ALLDAYEVENT:FALSE
SUMMARY:Chance to Meet...Deere & Company
DESCRIPTION:"A Chance to Meet" features the purchasing decision maker of a large business.  The program provides and overview of the featured company's purchasing needs.  At the end of the program\, guests will have the opportunity for Q&A and to meet the speaker. October's program will feature Elizabeth Carroll\, Small Business Officer at Deere & Company. Deere & Company\, known under the brand name John Deere is the leading manufacturer of agricultural machinery in the world.  In 2010\, it was listed as the 107th in the Fortune 500 ranking.  John Deere agricultural products include tractors\, combine harvesters\, balers\, platers/seeders\, ATVs and forestry equipment.  The company is also a leading supplier of construction equipment\, as well as equipment used in lawn\, grounds and turf care.  To learn more on how to do business with John Deere click here. Sponsors :DHCU Community Credit Union & Sedona Technologies
X-ALT-DESC;FMTTYPE=text/html:<DIV style="FONT-FAMILY: Arial" align=center><DIV style="FONT-FAMILY: Arial" align=center><DIV style="FONT-FAMILY: Arial" align=center><FONT face="Times New Roman"><SPAN style="FONT-FAMILY: 'Calibri'\,'sans-serif'\; mso-ascii-theme-font: minor-latin\; mso-hansi-theme-font: minor-latin">"A Chance to Meet" features the purchasing decision maker of a large business.&nbsp\; The program provides and overview of the featured company's purchasing needs.&nbsp\; At the end of the program\, guests will have the opportunity for Q&amp\;A and to meet the speaker.</SPAN></FONT></DIV><DIV style="FONT-FAMILY: Arial" align=center><FONT face="Times New Roman"><SPAN style="FONT-FAMILY: 'Calibri'\,'sans-serif'\; mso-ascii-theme-font: minor-latin\; mso-hansi-theme-font: minor-latin"></SPAN></FONT>&nbsp\;</DIV><DIV style="FONT-FAMILY: Arial" align=center><FONT face="Times New Roman"><SPAN style="FONT-FAMILY: 'Calibri'\,'sans-serif'\; mso-ascii-theme-font: minor-latin\; mso-hansi-theme-font: minor-latin">October's program will feature Elizabeth Carroll\, Small Business Officer at Deere &amp\; Company.</SPAN></FONT></DIV><DIV style="FONT-FAMILY: Arial" align=center><FONT face="Times New Roman"><SPAN style="FONT-FAMILY: 'Calibri'\,'sans-serif'\; mso-ascii-theme-font: minor-latin\; mso-hansi-theme-font: minor-latin"></SPAN></FONT>&nbsp\;</DIV><DIV style="FONT-FAMILY: Arial" align=center><FONT face="Times New Roman"><SPAN style="FONT-FAMILY: 'Calibri'\,'sans-serif'\; mso-ascii-theme-font: minor-latin\; mso-hansi-theme-font: minor-latin"><P style="MARGIN: 0in 0in 10pt" class=MsoNormal>Deere &amp\; Company\, known under the brand name John Deere is the leading manufacturer of agricultural machinery in the world.<SPAN style="mso-spacerun: yes">&nbsp\; </SPAN>In 2010\, it was listed as the 107<SUP>th</SUP> in the Fortune 500 ranking.<SPAN style="mso-spacerun: yes">&nbsp\; </SPAN>John Deere agricultural products include tractors\, combine harvesters\, balers\, platers/seeders\, ATVs and forestry equipment.<SPAN style="mso-spacerun: yes">&nbsp\; </SPAN>The company is also a leading supplier of construction equipment\, as well as equipment used in lawn\, grounds and turf care.<SPAN style="mso-spacerun: yes">&nbsp\; </SPAN>To learn more on how to do business with John Deere click <A href="http://www.deere.com/wps/dcom/en_US/corporate/our_company/about_us/doing_business_with_us/doing_business_with_us.page?"><FONT color=#800080>here</FONT></A>.</P></SPAN></FONT></DIV><DIV style="FONT-FAMILY: Arial" align=center><P style="MARGIN: 0in 0in 0pt 5.75pt" class=MsoNormal><SPAN style="FONT-FAMILY: 'Calibri'\,'sans-serif'\; mso-ascii-theme-font: minor-latin\; mso-hansi-theme-font: minor-latin"><FONT face=Arial></FONT></SPAN>&nbsp\;</P><P style="MARGIN: 0in 0in 0pt 5.75pt" class=MsoNormal><SPAN style="FONT-FAMILY: 'Calibri'\,'sans-serif'\; mso-ascii-theme-font: minor-latin\; mso-hansi-theme-font: minor-latin">Sponsors :</SPAN></P><P style="MARGIN: 0in 0in 0pt 5.75pt" class=MsoNormal><SPAN style="FONT-FAMILY: 'Calibri'\,'sans-serif'\; mso-ascii-theme-font: minor-latin\; mso-hansi-theme-font: minor-latin">DHCU Community Credit Union &amp\; Sedona Technologies</SPAN></P><P style="MARGIN: 0in 0in 0pt 5.75pt" class=MsoNormal><SPAN style="FONT-FAMILY: 'Calibri'\,'sans-serif'\; mso-ascii-theme-font: minor-latin\; mso-hansi-theme-font: minor-latin"><SPAN style="FONT-FAMILY: 'Verdana'\,'sans-serif'\; COLOR: #333333\; FONT-SIZE: 10pt\; mso-fareast-font-family: Calibri\; mso-fareast-theme-font: minor-latin\; mso-bidi-font-family: 'Times New Roman'\; mso-ansi-language: EN-US\; mso-fareast-language: EN-US\; mso-bidi-language: AR-SA"><SPAN style="FONT-FAMILY: 'Verdana'\,'sans-serif'\; COLOR: #333333\; FONT-SIZE: 10pt\; mso-fareast-font-family: Calibri\; mso-fareast-theme-font: minor-latin\; mso-bidi-font-family: 'Times New Roman'\; mso-ansi-language: EN-US\; mso-fareast-language: EN-US\; mso-bidi-language: AR-SA"><?xml:namespace prefix = o ns = "urn:schemas-microsoft-com:office:office" /><o:p><FONT color=#000000 size=3 face=Calibri></FONT></o:p></SPAN></SPAN></SPAN>&nbsp\;</P><P style="MARGIN: 0in 0in 0pt 5.75pt" class=MsoNormal><SPAN style="FONT-FAMILY: 'Calibri'\,'sans-serif'\; mso-ascii-theme-font: minor-latin\; mso-hansi-theme-font: minor-latin"><SPAN style="FONT-FAMILY: 'Verdana'\,'sans-serif'\; COLOR: #333333\; FONT-SIZE: 10pt\; mso-fareast-font-family: Calibri\; mso-fareast-theme-font: minor-latin\; mso-bidi-font-family: 'Times New Roman'\; mso-ansi-language: EN-US\; mso-fareast-language: EN-US\; mso-bidi-language: AR-SA"><SPAN style="FONT-FAMILY: 'Verdana'\,'sans-serif'\; COLOR: #333333\; FONT-SIZE: 10pt\; mso-fareast-font-family: Calibri\; mso-fareast-theme-font: minor-latin\; mso-bidi-font-family: 'Times New Roman'\; mso-ansi-language: EN-US\; mso-fareast-language: EN-US\; mso-bidi-language: AR-SA"><o:p><FONT color=#000000 size=3 face=Calibri><SPAN style="FONT-FAMILY: 'Calibri'\,'sans-serif'\; FONT-SIZE: 11pt\; mso-fareast-font-family: Calibri\; mso-fareast-theme-font: minor-latin\; mso-bidi-font-family: 'Times New Roman'\; mso-ansi-language: EN-US\; mso-fareast-language: EN-US\; mso-bidi-language: AR-SA"><?xml:namespace prefix = v ns = "urn:schemas-microsoft-com:vml" /><v:shapetype id=_x0000_t75 coordsize="21600\,21600" o:spt="75" o:preferrelative="t" path="m@4@5l@4@11@9@11@9@5xe" filled="f" stroked="f"><SPAN style="FONT-FAMILY: 'Verdana'\,'sans-serif'\; COLOR: #333333\; FONT-SIZE: 10pt\; mso-fareast-font-family: Calibri\; mso-fareast-theme-font: minor-latin\; mso-bidi-font-family: 'Times New Roman'\; mso-ansi-language: EN-US\; mso-fareast-language: EN-US\; mso-bidi-language: AR-SA"><v:shapetype id=_x0000_t75 coordsize="21600\,21600" o:spt="75" o:preferrelative="t" path="m@4@5l@4@11@9@11@9@5xe" filled="f" stroked="f">&nbsp\;<v:stroke joinstyle="miter"></v:stroke><v:formulas><v:f eqn="if lineDrawn pixelLineWidth 0"></v:f><v:f eqn="sum @0 1 0"></v:f><v:f eqn="sum 0 0 @1"></v:f><v:f eqn="prod @2 1 2"></v:f><v:f eqn="prod @3 21600 pixelWidth"></v:f><v:f eqn="prod @3 21600 pixelHeight"></v:f><v:f eqn="sum @0 0 1"></v:f><v:f eqn="prod @6 1 2"></v:f><v:f eqn="prod @7 21600 pixelWidth"></v:f><v:f eqn="sum @8 21600 0"></v:f><v:f eqn="prod @7 21600 pixelHeight"></v:f><v:f eqn="sum @10 21600 0"></v:f></v:formulas><v:path o:extrusionok="f" gradientshapeok="t" o:connecttype="rect"></v:path><o:lock v:ext="edit" aspectratio="t"></o:lock></v:shapetype><v:shape style="WIDTH: 112.5pt\; HEIGHT: 39pt" id=_x0000_i1025 alt="https://origin.ih.constantcontact.com/fs008/1101054077886/img/529.jpg" type="#_x0000_t75"><v:imagedata o:href="cid:image001.jpg@01CC8501.C7D1D1E0" src="file:///C:\\DOCUME~1\\anagle\\LOCALS~1\\Temp\\msohtmlclip1\\01\\clip_image001.jpg"></v:imagedata></v:shape></SPAN>&nbsp\;<v:stroke joinstyle="miter"></v:stroke><v:formulas><v:f eqn="if lineDrawn pixelLineWidth 0"></v:f><v:f eqn="sum @0 1 0"></v:f><v:f eqn="sum 0 0 @1"></v:f><v:f eqn="prod @2 1 2"></v:f><v:f eqn="prod @3 21600 pixelWidth"></v:f><v:f eqn="prod @3 21600 pixelHeight"></v:f><v:f eqn="sum @0 0 1"></v:f><v:f eqn="prod @6 1 2"></v:f><v:f eqn="prod @7 21600 pixelWidth"></v:f><v:f eqn="sum @8 21600 0"></v:f><v:f eqn="prod @7 21600 pixelHeight"></v:f><v:f eqn="sum @10 21600 0"></v:f></v:formulas><v:path o:extrusionok="f" gradientshapeok="t" o:connecttype="rect"></v:path><o:lock v:ext="edit" aspectratio="t"></o:lock></v:shapetype><v:shape style="WIDTH: 105pt\; HEIGHT: 51pt" id=Picture_x005f_x0020_0 alt="Sedona Logo.jpg" type="#_x0000_t75" o:spid="_x0000_i1025"><v:imagedata o:href="cid:image002.jpg@01CC8501.C7D1D1E0" src="file:///C:\\DOCUME~1\\anagle\\LOCALS~1\\Temp\\msohtmlclip1\\01\\clip_image001.jpg"></v:imagedata></v:shape></SPAN></FONT></o:p></SPAN></SPAN></P></SPAN></DIV></DIV></DIV>
LOCATION:DHCU Community Credit Union1900 52nd Avenue Moline\, IL 61265
UID:e.2843.145
SEQUENCE:3
DTSTAMP:20260422T141010Z
URL:https://member.quadcitieschamber.com/events/details/chance-to-meet-deere-company-10-18-2011-145
END:VEVENT

END:VCALENDAR
