BEGIN:VCALENDAR
VERSION:2.0
PRODID:-//ChamberMaster//Event Calendar 2.0//EN
METHOD:PUBLISH
X-PUBLISHED-TTL:P3D
REFRESH-INTERVAL:P3D
CALSCALE:GREGORIAN
BEGIN:VEVENT
DTSTART:20110517T124500Z
DTEND:20110517T140000Z
X-MICROSOFT-CDO-ALLDAYEVENT:FALSE
SUMMARY:Chance to Meet...Magnaflux
DESCRIPTION:"A Chance to Meet" features the purchasing decision maker of a large business. The program provides an overview of the featured company's purchasing needs. At the end of the program\, guests will have the opportunity for Q&A and to meet the speaker. This month's A Chance to Meet... will feature Dan Petri\, Purchasing Manager from Magnaflux.   Learn how to become a preferred vendor for MAGNAFLUX\, a division of Illinois Tool Works.  This worldwide producer of testing equipment and chemicals is seeking products including but not limited to: chemicals\, steel\, copper\, circuitry\, wires\, bus bars\, lawn service\, cleaning service\, containers\, uniforms\, printing companies\, towels\, toilet paper\, drums\, pails\, fabricators and painting.
X-ALT-DESC;FMTTYPE=text/html:<P style="TEXT-ALIGN: center\; LINE-HEIGHT: normal\; MARGIN: 0in 0in 0pt" class=MsoNormal align=center><SPAN style="FONT-FAMILY: 'Georgia'\,'serif'\; FONT-SIZE: 12pt\; mso-fareast-font-family: 'Times New Roman'\; mso-bidi-font-family: Arial">"A Chance to Meet" features the purchasing decision maker of a large business. The program provides an overview of the featured company's purchasing needs. At the end of the program\, guests will have the opportunity for Q&amp\;A and to meet the speaker.<?xml:namespace prefix = o ns = "urn:schemas-microsoft-com:office:office" /><o:p></o:p></SPAN></P><P style="TEXT-ALIGN: center\; LINE-HEIGHT: normal\; MARGIN: 0in 0in 0pt" class=MsoNormal align=center><SPAN style="FONT-FAMILY: 'Georgia'\,'serif'\; FONT-SIZE: 12pt\; mso-fareast-font-family: 'Times New Roman'\; mso-bidi-font-family: Arial">&nbsp\;<o:p></o:p></SPAN></P><P style="TEXT-ALIGN: center\; LINE-HEIGHT: normal\; MARGIN: 0in 0in 0pt" class=MsoNormal align=center><SPAN style="FONT-FAMILY: 'Georgia'\,'serif'\; FONT-SIZE: 12pt\; mso-fareast-font-family: 'Times New Roman'\; mso-bidi-font-family: Arial">This month's A Chance to Meet... will feature Dan Petri\, Purchasing Manager&nbsp\;from Magnaflux.&nbsp\; <o:p></o:p></SPAN></P><P style="TEXT-ALIGN: center\; LINE-HEIGHT: normal\; MARGIN: 0in 0in 0pt" class=MsoNormal align=center><SPAN style="FONT-FAMILY: 'Georgia'\,'serif'\; FONT-SIZE: 12pt\; mso-fareast-font-family: 'Times New Roman'\; mso-bidi-font-family: Arial"><o:p>&nbsp\;</o:p></SPAN></P><P style="TEXT-ALIGN: center\; LINE-HEIGHT: normal\; MARGIN: 0in 0in 0pt" class=MsoNormal align=center><SPAN style="FONT-FAMILY: 'Georgia'\,'serif'\; FONT-SIZE: 12pt\; mso-fareast-font-family: 'Times New Roman'\; mso-bidi-font-family: Arial">Learn how to become a preferred vendor for MAGNAFLUX\, a division of Illinois Tool Works.&nbsp\; This worldwide producer of testing equipment and chemicals is seeking products including but not limited to: chemicals\, steel\, copper\, circuitry\, wires\, bus bars\, lawn service\, cleaning service\, containers\, uniforms\, printing companies\, towels\, toilet paper\, drums\, pails\, fabricators and painting.&nbsp\; </SPAN></P>
LOCATION:DHCU Community Credit Union1900 52nd Avenue Moline\, IL 61265
UID:e.2843.140
SEQUENCE:3
DTSTAMP:20260422T231331Z
URL:https://member.quadcitieschamber.com/events/details/chance-to-meet-magnaflux-05-17-2011-140
END:VEVENT

END:VCALENDAR
