BEGIN:VCALENDAR
VERSION:2.0
PRODID:-//ChamberMaster//Event Calendar 2.0//EN
METHOD:PUBLISH
X-PUBLISHED-TTL:P3D
REFRESH-INTERVAL:P3D
CALSCALE:GREGORIAN
BEGIN:VEVENT
DTSTART:20120117T140000Z
DTEND:20120117T150000Z
X-MICROSOFT-CDO-ALLDAYEVENT:FALSE
SUMMARY:Chance to Meet...MetroLink
DESCRIPTION:“A Chance to Meet. . .” is a forum for local business vendors and suppliers to meet the purchasing decision-makers of larger companies in the area. This month's program provides an overview of MetroLink's purchasing needs. At the end of the program\, you'll have the opportunity for questions and to meet the speaker from MetroLink. MetroLINK is a multi-city public transit system serving the Illinois Quad Cities Metropolitan area\, which includes East Moline\, Moline\, Rock Island\, Milan\, Silvis\, Hampton\, Carbon Cliff and Colona. MetroLINK employs over 125 people and touches thousands of lives each day by offering reliable\, safe\, and courteous public transportation to Illinois Quad Citians.
X-ALT-DESC;FMTTYPE=text/html:<DIV style="FONT-FAMILY: Arial" align=center><DIV style="TEXT-ALIGN: left\; FONT-FAMILY: Arial" align=left _mce_style="text-align: left\; font-family: Arial\;"><SPAN style="FONT-FAMILY: Verdana\, Geneva" _mce_style="font-family: Verdana\, Geneva\;"><P style="MARGIN: 0in 0in 0pt" _mce_style="margin: 0in 0in 0pt\;"><SPAN style="FONT-FAMILY: 'Calibri'\, 'sans-serif'\; FONT-SIZE: 11pt" _mce_style="font-family: 'Calibri'\, 'sans-serif'\; font-size: 11pt\;">“A Chance to Meet. . .” is a forum for local business vendors and suppliers to meet the purchasing decision-makers of larger companies in the area. <SPAN style="COLOR: black" _mce_style="color: black\;">This month's program provides an overview of&nbsp\;MetroLink's purchasing needs. At the end of the program\,&nbsp\;you'll&nbsp\;have the opportunity for&nbsp\;questions and to meet the speaker from MetroLink.</SPAN></SPAN></P><P style="MARGIN: 0in 0in 0pt" _mce_style="margin: 0in 0in 0pt\;"><SPAN style="FONT-FAMILY: 'Calibri'\, 'sans-serif'\; COLOR: #1f497d\; FONT-SIZE: 11pt" _mce_style="font-family: 'Calibri'\, 'sans-serif'\; color: #1f497d\; font-size: 11pt\;"></SPAN>&nbsp\;</P><P style="MARGIN: 0in 0in 0pt" _mce_style="margin: 0in 0in 0pt\;"><SPAN style="FONT-FAMILY: 'Calibri'\, 'sans-serif'\; COLOR: black\; FONT-SIZE: 11pt" lang=EN _mce_style="font-family: 'Calibri'\, 'sans-serif'\; color: black\; font-size: 11pt\;">MetroLINK is a multi-city public transit system serving the Illinois Quad Cities Metropolitan area\, which includes East Moline\, Moline\, Rock Island\, Milan\, Silvis\, Hampton\, Carbon Cliff and Colona. MetroLINK employs over 125 people and touches thousands of lives each day by offering reliable\, safe\, and courteous public transportation to Illinois Quad Citians.</SPAN></P></SPAN></DIV></DIV>
LOCATION:DHCU Community Credit Union1900 52nd Avenue Moline\, IL 61265
UID:e.2843.194
SEQUENCE:3
DTSTAMP:20260422T093351Z
URL:https://member.quadcitieschamber.com/events/details/chance-to-meet-metrolink-01-17-2012-194
END:VEVENT

END:VCALENDAR
