BEGIN:VCALENDAR
VERSION:2.0
PRODID:-//ChamberMaster//Event Calendar 2.0//EN
METHOD:PUBLISH
X-PUBLISHED-TTL:P3D
REFRESH-INTERVAL:P3D
CALSCALE:GREGORIAN
BEGIN:VEVENT
DTSTART:20130917T130000Z
DTEND:20130917T140000Z
X-MICROSOFT-CDO-ALLDAYEVENT:FALSE
SUMMARY:Chance to Meet...Western Illinois University
DESCRIPTION:
X-ALT-DESC;FMTTYPE=text/html:
LOCATION:DHCU Community Credit Union1900 52nd Avenue Moline\, IL 61265
UID:e.2843.671
SEQUENCE:3
DTSTAMP:20260421T184509Z
URL:https://member.quadcitieschamber.com/events/details/chance-to-meet-western-illinois-university-09-17-2013-671
END:VEVENT

END:VCALENDAR
