BEGIN:VCALENDAR
VERSION:2.0
PRODID:-//ChamberMaster//Event Calendar 2.0//EN
METHOD:PUBLISH
X-PUBLISHED-TTL:P3D
REFRESH-INTERVAL:P3D
CALSCALE:GREGORIAN
BEGIN:VEVENT
DTSTART:20120820T160000Z
DTEND:20120820T230000Z
X-MICROSOFT-CDO-ALLDAYEVENT:FALSE
SUMMARY:Charity Golf Classic
DESCRIPTION:Pinnacle Country Club\, Barron Equipment\, and WQAD-HD News 8 partner as sponsors of the Charity GolfClassic on Monday\, August 20th.  All proceeds benefit The Arc of the Quad Cities Area.
X-ALT-DESC;FMTTYPE=text/html:Pinnacle Country Club\, Barron Equipment\, and WQAD-HD News 8 partner as sponsors of the Charity GolfClassic on Monday\, August 20th.  All proceeds benefit The Arc of the Quad Cities Area.
LOCATION:Pinnacle Country Club11928 Knoxville Road Milan\, IL
UID:e.2843.98
SEQUENCE:3
DTSTAMP:20260421T201200Z
URL:https://member.quadcitieschamber.com/events/details/charity-golf-classic-08-20-2012-98
END:VEVENT

END:VCALENDAR
