BEGIN:VCALENDAR
VERSION:2.0
PRODID:-//ChamberMaster//Event Calendar 2.0//EN
METHOD:PUBLISH
X-PUBLISHED-TTL:P3D
REFRESH-INTERVAL:P3D
CALSCALE:GREGORIAN
BEGIN:VEVENT
DTSTART:20130608T150000Z
DTEND:20130608T200000Z
X-MICROSOFT-CDO-ALLDAYEVENT:FALSE
SUMMARY:Charity Ride 4 Life
DESCRIPTION:Motorcycle Destination Charity Ride\nfor the Women's Choice Center
X-ALT-DESC;FMTTYPE=text/html:Motorcycle Destination Charity Ride\nfor the Women's Choice Center
LOCATION:Women's Choice Center2711 Happy Joe Drive Bettendorf\, IO 52722
UID:e.2843.80
SEQUENCE:3
DTSTAMP:20260421T134515Z
URL:https://member.quadcitieschamber.com/events/details/charity-ride-4-life-06-08-2013-80
END:VEVENT

END:VCALENDAR
