BEGIN:VCALENDAR
VERSION:2.0
PRODID:-//ChamberMaster//Event Calendar 2.0//EN
METHOD:PUBLISH
X-PUBLISHED-TTL:P3D
REFRESH-INTERVAL:P3D
CALSCALE:GREGORIAN
BEGIN:VEVENT
DTSTART:20130228T220000Z
DTEND:20130228T223000Z
X-MICROSOFT-CDO-ALLDAYEVENT:FALSE
SUMMARY:Charles Schwab Ribbon Cutting
DESCRIPTION:Please help welcome new member\, Charles Schwab\, with a ribbon cutting on Thursday\, February 28th at 4:00pm.  Located at 5345 Elmore Avenue\, Suite 300 in Davenport – behind Starbucks on 53rd and Elmore. Since its founding\, Schwab has been an advocate for the individual investor.  Eric is proud to be the face of the Schwab in the Quad Cities ! For more information\, please visit www.schwab.com
X-ALT-DESC;FMTTYPE=text/html:<P style="MARGIN: 0in 0in 0pt" class=MsoNormal><FONT face=Calibri>Please help welcome new member\, Charles Schwab\, with a ribbon cutting on Thursday\, February 28<SUP>th</SUP> at 4:00pm.<SPAN style="mso-spacerun: yes">&nbsp\; </SPAN>Located at 5345 Elmore Avenue\, Suite 300 in Davenport – behind Starbucks on 53<SUP>rd</SUP> and Elmore.</FONT></P><P style="MARGIN: 0in 0in 0pt" class=MsoNormal><?xml:namespace prefix = o ns = "urn:schemas-microsoft-com:office:office" /><o:p><FONT face=Calibri>&nbsp\;</FONT></o:p></P><P style="MARGIN: 0in 0in 0pt" class=MsoNormal><FONT face=Calibri>Since its founding\, Schwab has been an advocate for the individual investor.<SPAN style="mso-spacerun: yes">&nbsp\; </SPAN>Eric is proud to be the face of the Schwab in the Quad Cities !</FONT></P><P style="MARGIN: 0in 0in 0pt" class=MsoNormal><o:p><FONT face=Calibri>&nbsp\;</FONT></o:p></P><P style="MARGIN: 0in 0in 0pt" class=MsoNormal><FONT face=Calibri>For more information\, please visit </FONT><A href="http://www.schwab.com">www.schwab.com</A><FONT face=Calibri> </FONT></P><DIV style="FONT-FAMILY: Arial">&nbsp\;</DIV>
LOCATION:Charles Schwab5345 Elmore Avenue\, # 300 Davenport\, IA 52807
UID:e.2843.520
SEQUENCE:3
DTSTAMP:20260421T121139Z
URL:https://member.quadcitieschamber.com/events/details/charles-schwab-ribbon-cutting-02-28-2013-520
END:VEVENT

END:VCALENDAR
