BEGIN:VCALENDAR
VERSION:2.0
PRODID:-//ChamberMaster//Event Calendar 2.0//EN
METHOD:PUBLISH
X-PUBLISHED-TTL:P3D
REFRESH-INTERVAL:P3D
CALSCALE:GREGORIAN
BEGIN:VEVENT
DTSTART:20130726T183000Z
DTEND:20130726T190000Z
X-MICROSOFT-CDO-ALLDAYEVENT:FALSE
SUMMARY:Chateau of Art Ribbon Cutting
DESCRIPTION:Please help new member\, Chateau of Art\, in the celebration of their grand opening on Friday\, July 26th at 3:00 p.m.  The QCA’s  Chateau of Art \, established in  2013\, is a new local source for purchasing  antiques\,  collectibles  and other fine-arts  as well as other services including appraisal\, repair\, and consignment of quality objects.    With a collection of products ranging from  collectible paintings\, crystals\, Murano  glass\, porcelain \, coins\,  figurines\, Oriental rugs\, the Chateau of Art team of experts are available to assist customers in the acquisition of  antiques\, collectibles and fine arts from all over the world\, particularly USA\, Europe and Asia.
X-ALT-DESC;FMTTYPE=text/html:<DIV><FONT face=Calibri><P style="MARGIN: 0in 0in 0pt" class=MsoNormal>Please help new member\, Chateau of Art\, in the celebration of their grand opening on Friday\, July 26<SUP>th</SUP> at 3:00 p.m. <?xml:namespace prefix = o ns = "urn:schemas-microsoft-com:office:office" /><o:p></o:p></P><P style="MARGIN: 0in 0in 0pt" class=MsoNormal><o:p>&nbsp\;</o:p></P><P style="MARGIN: 0in 0in 0pt" class=MsoNormal><SPAN style="COLOR: black\; mso-bidi-font-family: Arial">The QCA’s&nbsp\;&nbsp\;Chateau of Art \, established in&nbsp\;&nbsp\;2013\, is a new&nbsp\;local source for purchasing&nbsp\;&nbsp\;antiques\,&nbsp\;&nbsp\;collectibles&nbsp\;&nbsp\;and other fine-arts &nbsp\;as well as other services including appraisal\, repair\, and consignment of quality objects.&nbsp\;&nbsp\;&nbsp\;&nbsp\;With a collection of products ranging from&nbsp\;&nbsp\;collectible paintings\, crystals\, Murano&nbsp\;&nbsp\;glass\, porcelain \,&nbsp\;coins\,&nbsp\;&nbsp\;figurines\, Oriental rugs\, the Chateau of Art team of experts&nbsp\;are available to assist customers&nbsp\;in the acquisition of&nbsp\;&nbsp\;antiques\,&nbsp\;collectibles and fine arts&nbsp\;from all over the world\, particularly USA\, Europe and Asia.&nbsp\;</SPAN><SPAN style="FONT-FAMILY: 'Arial'\,'sans-serif'\; FONT-SIZE: 10pt"><o:p></o:p></SPAN></P><P style="MARGIN: 0in 0in 0pt" class=MsoNormal>&nbsp\;</P></FONT></DIV>
LOCATION:Chateau Of Art3546 Brady Street Davenport\, IA 52803
UID:e.2843.626
SEQUENCE:3
DTSTAMP:20260421T153643Z
URL:https://member.quadcitieschamber.com/events/details/chateau-of-art-ribbon-cutting-07-26-2013-626
END:VEVENT

END:VCALENDAR
