BEGIN:VCALENDAR
VERSION:2.0
PRODID:-//ChamberMaster//Event Calendar 2.0//EN
METHOD:PUBLISH
X-PUBLISHED-TTL:P3D
REFRESH-INTERVAL:P3D
CALSCALE:GREGORIAN
BEGIN:VEVENT
DTSTART:20130718T213000Z
DTEND:20130718T220000Z
X-MICROSOFT-CDO-ALLDAYEVENT:FALSE
SUMMARY:Chenhall's Staffing Services Ribbon Cutting
DESCRIPTION:Please help Chenhall’s Staffing Services celebrate their new location on Thursday\, July 18th at 4:30pm – Located at 2119 East 12th Street\, Davenport (Village of East Davenport). As the Quad Cities’ oldest locally owned staffing and personnel agency\, Chenhall offers a comprehensive portfolio of staffing and personnel solutions coupled with the QC’s only SBA 8 (a) designation. They are uniquely positioned to help you grow your business and your profits. Visit www.chenhallstaffing.com to learn more.
X-ALT-DESC;FMTTYPE=text/html:<P style="MARGIN: 0in 0in 0pt" class=MsoNormal><FONT face=Calibri>Please help Chenhall’s Staffing Services celebrate their new location on <B style="mso-bidi-font-weight: normal">Thursday\, July 18<SUP>th</SUP> at 4:30pm</B> – Located at 2119 East 12<SUP>th</SUP> Street\, Davenport (Village of East Davenport).<?xml:namespace prefix = o ns = "urn:schemas-microsoft-com:office:office" /><o:p></o:p></FONT></P><P style="MARGIN: 0in 0in 0pt" class=MsoNormal><o:p><FONT face=Calibri>&nbsp\;</FONT></o:p></P><P style="MARGIN: 0in 0in 0pt" class=MsoNormal><FONT face=Calibri>As the Quad Cities’ oldest locally owned staffing and personnel agency\, Chenhall offers a comprehensive portfolio of staffing and personnel solutions coupled with the QC’s only SBA 8 (a) designation. They are uniquely positioned to help you grow your business and your profits.<o:p></o:p></FONT></P><P style="MARGIN: 0in 0in 0pt" class=MsoNormal><o:p><FONT face=Calibri>&nbsp\;</FONT></o:p></P><P style="MARGIN: 0in 0in 0pt" class=MsoNormal><FONT face=Calibri>Visit </FONT><A href="http://www.chenhallstaffing.com">www.chenhallstaffing.com</A><FONT face=Calibri> to learn more.<o:p></o:p></FONT></P><DIV style="FONT-FAMILY: Arial">&nbsp\;</DIV>
LOCATION:Chenhall's Staffing Services\, Inc.2119 E. 12th St. Davenport\, IA 52803
UID:e.2843.617
SEQUENCE:3
DTSTAMP:20260421T154447Z
URL:https://member.quadcitieschamber.com/events/details/chenhall-s-staffing-services-ribbon-cutting-07-18-2013-617
END:VEVENT

END:VCALENDAR
