BEGIN:VCALENDAR
VERSION:2.0
PRODID:-//ChamberMaster//Event Calendar 2.0//EN
METHOD:PUBLISH
X-PUBLISHED-TTL:P3D
REFRESH-INTERVAL:P3D
CALSCALE:GREGORIAN
BEGIN:VEVENT
DTSTART:20190719T223500Z
DTEND:20190720T030000Z
X-MICROSOFT-CDO-ALLDAYEVENT:FALSE
SUMMARY:Child Safety Night: Presented by Per Mar
DESCRIPTION:Join us on July 19 for a night promoting Child Safety and a tote bag giveaway presented by Per Mar Security Services with post-game fireworks courtesy of Smart Toyota of the Quad Cities!\n\n\n\nKlaasKids\, a non-profit organization that promotes child safety\, will conduct a Print-A-Thon. The foundation will be digitally fingerprinting and photographing children (3 months and older) to immediately provide parents with a Bio-Doc. No personal information is stored\; parents will have the only copy of their child's Bio-Doc. Parents will also receive a DNA collection kit\, proactive safety information\, and a plan on what to do in the event of a missing child.
X-ALT-DESC;FMTTYPE=text/html:<span style="color:rgb(29\, 33\, 41)\; font-family:helvetica\,arial\,sans-serif\; font-size:14px">Join us on July 19 for a night promoting Child Safety and a tote bag giveaway presented by Per Mar Security Services with post-game fireworks courtesy of Smart Toyota of the Quad Cities!</span><br />\n<br />\n<span style="color:rgb(29\, 33\, 41)\; font-family:helvetica\,arial\,sans-serif\; font-size:14px">KlaasKids\, a non-profit organization that promotes child safety\, will conduct a Print-A-Thon. The foundation will be digitally fingerprinting and photographing children (3 months and older) to immediately provide parents with a Bio-Doc. No personal information is stored\; parents will have the only copy of their child&rsquo\;s Bio-Doc. Parents will also receive a DNA collection kit\, proactive safety information\, and a plan on what to do in the event of a missing child. </span>
LOCATION:Modern Woodmen Park: 209 Gaines Street\, Davenport\, IA 52802
UID:e.2843.15443
SEQUENCE:3
DTSTAMP:20260422T113443Z
URL:https://member.quadcitieschamber.com/events/details/child-safety-night-presented-by-per-mar-security-services-15443
END:VEVENT

END:VCALENDAR
