BEGIN:VCALENDAR
VERSION:2.0
PRODID:-//ChamberMaster//Event Calendar 2.0//EN
METHOD:PUBLISH
X-PUBLISHED-TTL:P3D
REFRESH-INTERVAL:P3D
CALSCALE:GREGORIAN
BEGIN:VEVENT
DTSTART:20130612T150000Z
DTEND:20130612T153000Z
X-MICROSOFT-CDO-ALLDAYEVENT:FALSE
SUMMARY:Children's Therapy Center Ribbon Cutting
DESCRIPTION:Please help the Children’s Therapy Center celebrate the unveiling of an official announcement on Wednesday\, June 12th at 10:00am – Located at 1504 13th Avenue in Moline. The Children’s Therapy Center is a Charitable organization providing medical rehabilitation services to children with  developmental disabilities and developmental delays.  Please visit their website at www.ctcqc.org for more information.
X-ALT-DESC;FMTTYPE=text/html:<P style="MARGIN: 0in 0in 0pt" class=MsoNormal><FONT face=Calibri>Please help the Children’s Therapy Center celebrate the unveiling of an official announcement on <B style="mso-bidi-font-weight: normal">Wednesday\, June 12<SUP>th</SUP> at 10:00am</B> – Located at 1504 13<SUP>th</SUP> Avenue in Moline.<?xml:namespace prefix = o ns = "urn:schemas-microsoft-com:office:office" /><o:p></o:p></FONT></P><P style="MARGIN: 0in 0in 0pt" class=MsoNormal><o:p><FONT face=Calibri>&nbsp\;</FONT></o:p></P><P style="MARGIN: 0in 0in 0pt" class=MsoNormal><FONT face=Calibri>The Children’s Therapy Center is a Charitable organization providing medical rehabilitation services to children with <SPAN style="mso-spacerun: yes">&nbsp\;</SPAN>developmental disabilities and developmental delays.<SPAN style="mso-spacerun: yes">&nbsp\; </SPAN>Please visit their website at </FONT><A href="http://www.ctcqc.org">www.ctcqc.org</A><FONT face=Calibri> for more information.<o:p></o:p></FONT></P><DIV style="FONT-FAMILY: Arial">&nbsp\;</DIV>
LOCATION:Children's Therapy Center of the Quad Cities1504 13th Avenue Moline\, IL 61265
UID:e.2843.603
SEQUENCE:3
DTSTAMP:20260421T134802Z
URL:https://member.quadcitieschamber.com/events/details/children-s-therapy-center-ribbon-cutting-06-12-2013-603
END:VEVENT

END:VCALENDAR
