BEGIN:VCALENDAR
VERSION:2.0
PRODID:-//ChamberMaster//Event Calendar 2.0//EN
METHOD:PUBLISH
X-PUBLISHED-TTL:P3D
REFRESH-INTERVAL:P3D
CALSCALE:GREGORIAN
BEGIN:VEVENT
DTSTART:20170619T180000Z
DTEND:20170619T200000Z
X-MICROSOFT-CDO-ALLDAYEVENT:FALSE
SUMMARY:Chivalry in Action: Goodwill Industries of the Heartland Teams with Medieval Times to Reward Local Supporters
DESCRIPTION:Goodwill Industries of the Heartland is joining forces with Medieval Times to declare Monday\, June 19\, "Chivalry in Action Day". From 1 to 3 p.m.\, the first 25 individuals making a purchase or donation at the Rock Island Goodwill store and donation center\, 4664 44th St.\, will receive two complimentary dinner and tournament tickets to Medieval Times in northwest suburban Chicago. This is the inaugural stop for Medieval Times knights on their multi-city Chivalry in Action Goodwill Tour. Throughout the two-hour appearance\, the Medieval Times knights will present professional sword-fighting demonstrations\, engage children in knights-in-training exercises and pose for photos with Goodwill patrons. After the first 25 pairs of complimentary dinner and tournament tickets have been distributed\, shoppers will still be able to secure discount coupons for Medieval Times\, along with 20 percent discount coupons for in-store shopping offered by Goodwill.
X-ALT-DESC;FMTTYPE=text/html:Goodwill Industries of the Heartland is joining forces with Medieval Times to declare Monday\, June 19\, &ldquo\;Chivalry in Action Day&rdquo\;. From 1 to 3 p.m.\, the first 25 individuals making a purchase or donation at the Rock Island Goodwill store and donation center\, 4664 44th St.\, will receive two complimentary dinner and tournament tickets to Medieval Times in northwest suburban Chicago. This is the inaugural stop for Medieval Times knights on their multi-city Chivalry in Action Goodwill Tour. Throughout the two-hour appearance\, the Medieval Times knights will present professional sword-fighting demonstrations\, engage children in knights-in-training exercises and pose for photos with Goodwill patrons. After the first 25 pairs of complimentary dinner and tournament tickets have been distributed\, shoppers will still be able to secure discount coupons for Medieval Times\, along with 20 percent discount coupons for in-store shopping offered by Goodwill.
LOCATION:Rock Island Goodwill 4664 44th Street Rock Island\, IL 61201
UID:e.2843.6080
SEQUENCE:3
DTSTAMP:20260424T015541Z
URL:https://member.quadcitieschamber.com/events/details/chivalry-in-action-goodwill-industries-of-the-heartland-teams-with-medieval-times-to-reward-local-supporters-6080
END:VEVENT

END:VCALENDAR
