BEGIN:VCALENDAR
VERSION:2.0
PRODID:-//ChamberMaster//Event Calendar 2.0//EN
METHOD:PUBLISH
X-PUBLISHED-TTL:P3D
REFRESH-INTERVAL:P3D
CALSCALE:GREGORIAN
BEGIN:VEVENT
DTSTART:20130813T223000Z
DTEND:20130813T230000Z
X-MICROSOFT-CDO-ALLDAYEVENT:FALSE
SUMMARY:Chocolate Manor Grand Opening Ribbon Cutting
DESCRIPTION:Please help Chocolate Manor celebrate the grand opening of their new location on Tuesday\, August 13th at 5:30 p.m. – Located at 110 E. 2nd St. in Davenport.  Chocolate Manor is known as a handcrafted Artisan Confection/Pastry Shop. Their products are made in their own kitchen by skilled craftsman. Custom orders\, weddings and special orders are also accepted.
X-ALT-DESC;FMTTYPE=text/html:<FONT face=Calibri><SPAN style="FONT-FAMILY: 'Tahoma'\,'sans-serif'\; COLOR: black\; FONT-SIZE: 10pt"><P style="MARGIN: 0in 0in 0pt" class=MsoNormal><FONT size=3><FONT face=Calibri>Please help Chocolate Manor celebrate the grand opening of their new location on <B style="mso-bidi-font-weight: normal">Tuesday\, August 13<SUP>th</SUP> at 5:30 p.m. </B>– Located at 110 E. 2nd St. in Davenport. <?xml:namespace prefix = o ns = "urn:schemas-microsoft-com:office:office" /><o:p></o:p></FONT></FONT></P><P style="MARGIN: 0in 0in 0pt" class=MsoNormal><o:p><FONT size=3 face=Calibri>&nbsp\;</FONT></o:p></P><P style="MARGIN: 0in 0in 0pt" class=MsoNormal><FONT size=3><FONT face=Calibri>Chocolate Manor is known as a handcrafted Artisan Confection/Pastry Shop. Their products are made in their own kitchen by skilled craftsman. Custom orders\, weddings and special orders are also accepted.<o:p></o:p></FONT></FONT></P><P style="MARGIN: 0in 0in 0pt\; mso-layout-grid-align: none" class=MsoNormal></SPAN></FONT></P>
LOCATION:Chocolate Manor110 E. 2nd St. Davenport\, IA 52801
UID:e.2843.631
SEQUENCE:3
DTSTAMP:20260421T170253Z
URL:https://member.quadcitieschamber.com/events/details/chocolate-manor-grand-opening-ribbon-cutting-08-13-2013-631
END:VEVENT

END:VCALENDAR
