BEGIN:VCALENDAR
VERSION:2.0
PRODID:-//ChamberMaster//Event Calendar 2.0//EN
METHOD:PUBLISH
X-PUBLISHED-TTL:P3D
REFRESH-INTERVAL:P3D
CALSCALE:GREGORIAN
BEGIN:VEVENT
DTSTART:20130610T124500Z
DTEND:20130610T143000Z
X-MICROSOFT-CDO-ALLDAYEVENT:FALSE
SUMMARY:Choosing the Right Policy Drivers for Successful System Reform: Featuring Dr. Michael Fullen
DESCRIPTION:Choosing the Right Policy Drivers for Successful System Reform Keynote Address:  Dr. Michael Fullan\, Professor emeritus of the Ontario Institute for Studies in Education at the University of Toronto Author Dr. Fullan will deliver a keynote address for educational\, community and business leaders\, parents\, legislators and media focusing on the key principals of change leadership and capacity building and it relates to public policy in this country. Dr. Fullan advises policymakers and local leaders around the world and has written award-winning books including: Leading in a Culture of Change\, Change Wars and Professional Capital: Transforming Teaching in Every School.
X-ALT-DESC;FMTTYPE=text/html:<DIV style="FONT-FAMILY: Arial"><P style="MARGIN: 0in 0in 0pt" class=MsoNormal><SPAN style="COLOR: black\; FONT-SIZE: 10.5pt"><FONT face=Tahoma><FONT size=2><STRONG>Choosing the Right Policy Drivers for Successful System Reform</STRONG></FONT></FONT></SPAN></P><P style="MARGIN: 0in 0in 0pt" class=MsoNormal><SPAN style="COLOR: black\; FONT-SIZE: 10.5pt"><FONT face=Tahoma><FONT size=2><STRONG><?xml:namespace prefix = o ns = "urn:schemas-microsoft-com:office:office" /><o:p></o:p></STRONG></FONT></FONT></SPAN>&nbsp\;</P><P style="MARGIN: 0in 0in 0pt" class=MsoNormal><SPAN style="COLOR: black\; FONT-SIZE: 10.5pt"><FONT face=Tahoma><FONT size=2><STRONG>Keynote Address: &nbsp\;Dr. Michael Fullan\, P<SPAN class=apple-style-span>rofessor emeritus of the Ontario Institute for Studies in Education at the University of Toronto</SPAN></STRONG></FONT></FONT></SPAN></P><P style="MARGIN: 0in 0in 0pt" class=MsoNormal><SPAN style="COLOR: black\; FONT-SIZE: 10.5pt"><FONT face=Tahoma><FONT size=2><STRONG><SPAN class=apple-style-span></SPAN></STRONG></FONT></FONT></SPAN>&nbsp\;</P><P style="MARGIN: 0in 0in 0pt" class=MsoNormal><SPAN style="COLOR: black\; FONT-SIZE: 10.5pt"><FONT face=Tahoma><FONT size=2><SPAN class=apple-style-span>Author Dr. Fullan will deliver a keynote address for educational\, community and business leaders\, parents\, legislators and media focusing on the key principals of change leadership and capacity building and it relates to public policy in this country. Dr. Fullan advises policymakers and local leaders around the world and has written award-winning books including: Leading in a Culture of Change\, Change Wars and Professional Capital: Transforming Teaching in Every School. </SPAN></FONT></FONT></SPAN></P><P style="MARGIN: 0in 0in 0pt" class=MsoNormal><SPAN style="COLOR: black\; FONT-SIZE: 10.5pt"><FONT face=Tahoma><FONT size=2><STRONG><SPAN class=apple-style-span></SPAN></STRONG></FONT></FONT></SPAN>&nbsp\;</P></DIV>
LOCATION:Stoney Creek Inn & Conference Center101 18th Street Moline\, IL 61265
UID:e.2843.578
SEQUENCE:3
DTSTAMP:20260421T152325Z
URL:https://member.quadcitieschamber.com/events/details/choosing-the-right-policy-drivers-for-successful-system-reform-featuring-dr-michael-fullen-06-10-2013-578
END:VEVENT

END:VCALENDAR
