BEGIN:VCALENDAR
VERSION:2.0
PRODID:-//ChamberMaster//Event Calendar 2.0//EN
METHOD:PUBLISH
X-PUBLISHED-TTL:P3D
REFRESH-INTERVAL:P3D
CALSCALE:GREGORIAN
BEGIN:VEVENT
DTSTART:20140417T213000Z
DTEND:20140417T220000Z
X-MICROSOFT-CDO-ALLDAYEVENT:FALSE
SUMMARY:Cities Insurance Group Grand Opening Ribbon Cutting
DESCRIPTION:Cities Insurance Group\, located at 2550 Middle Road Bettendorf\, IA 52722\,  will be celebrating the grand opening of their new location on Thursday\, April 17th at 4:30pm.  http://mapq.st/P1S7Ja   Cities Insurance Group is an independent insurance company that has been advising customers for over 20 years.  Their focus is helping seniors to understand and select the best option for their Medicare coverage.  As the business evolved\, Cities Insurance has become even more driven by their customer’s needs. Today\, the company offers home\, auto\, life\, health insurance and more.   For more information\, please visit www.citiesig.com.
X-ALT-DESC;FMTTYPE=text/html:<FONT face=Calibri><SPAN style="FONT-FAMILY: 'Calibri'\,'sans-serif'\; FONT-SIZE: 11pt\; mso-fareast-font-family: 'Times New Roman'\; mso-bidi-font-family: 'Times New Roman'\; mso-ansi-language: EN-US\; mso-fareast-language: EN-US\; mso-bidi-language: AR-SA"><P style="MARGIN: 0in 0in 0pt" class=MsoNormal><P style="MARGIN: 0in 0in 0pt" class=MsoNormal></P></SPAN></FONT><P style="MARGIN: 0in 0in 0pt" class=MsoNormal><FONT face=Calibri>Cities Insurance Group\, located at 2550 Middle Road Bettendorf\, IA 52722\,<SPAN style="mso-spacerun: yes">&nbsp\; </SPAN>will be celebrating the grand opening of their new location on Thursday\, April 17<SUP>th</SUP> at 4:30pm.<SPAN style="mso-spacerun: yes">&nbsp\; </SPAN></FONT><A href="http://mapq.st/P1S7Ja"><FONT color=#0000ff>http://mapq.st/P1S7Ja</FONT></A><FONT face=Calibri><SPAN style="mso-spacerun: yes">&nbsp\; </SPAN><?xml:namespace prefix = o ns = "urn:schemas-microsoft-com:office:office" /><o:p></o:p></FONT></P><P style="MARGIN: 0in 0in 0pt" class=MsoNormal><o:p><FONT face=Calibri>&nbsp\;</FONT></o:p></P><P style="MARGIN: 0in 0in 0pt" class=MsoNormal><FONT face=Calibri>Cities Insurance Group is an independent insurance company that has been advising customers for over 20 years.<SPAN style="mso-spacerun: yes">&nbsp\; </SPAN>Their focus is helping seniors to understand and select the best option for their Medicare coverage.<SPAN style="mso-spacerun: yes">&nbsp\; </SPAN>As the business evolved\, Cities Insurance has become even more driven by their customer’s needs. Today\, the company offers home\, auto\, life\, health insurance and more. <SPAN style="mso-spacerun: yes">&nbsp\;</SPAN><o:p></o:p></FONT></P><P style="MARGIN: 0in 0in 0pt" class=MsoNormal><o:p><FONT face=Calibri>&nbsp\;</FONT></o:p></P><P style="MARGIN: 0in 0in 0pt" class=MsoNormal><FONT face=Calibri>For more information\, please visit </FONT><A href="http://www.citiesig.com"><FONT color=#0000ff>www.citiesig.com</FONT></A><FONT face=Calibri>.<o:p></o:p></FONT></P><P style="MARGIN: 0in 0in 0pt" class=MsoNormal><o:p><FONT face=Calibri>&nbsp\;</FONT></o:p></P><P style="MARGIN: 0in 0in 0pt" class=MsoNormal><FONT face=Calibri><o:p></o:p></FONT>&nbsp\;</P><P></P>
LOCATION:Cities Insurance Group2550 Middle Rd. Suite 506 Bettendorf\, IA 52722
UID:e.2843.785
SEQUENCE:3
DTSTAMP:20260422T093534Z
URL:https://member.quadcitieschamber.com/events/details/cities-insurance-group-grand-opening-ribbon-cutting-04-17-2014-785
END:VEVENT

END:VCALENDAR
