BEGIN:VCALENDAR
VERSION:2.0
PRODID:-//ChamberMaster//Event Calendar 2.0//EN
METHOD:PUBLISH
X-PUBLISHED-TTL:P3D
REFRESH-INTERVAL:P3D
CALSCALE:GREGORIAN
BEGIN:VEVENT
DTSTART:20190318T163000Z
DTEND:20190318T180000Z
X-MICROSOFT-CDO-ALLDAYEVENT:FALSE
SUMMARY:City of Moline State of the City Address
DESCRIPTION:Mayor\, Stephanie Acri\, will provide a State of the City address on Monday\, March 18\, 2019 at the TaxSlayer Center\, 1201 River Drive\, Moline. The presentation will take place at 12:00 p.m. in a joint meeting of the Moline Kiwanis and Rotary Clubs. The meeting is free and open to the public. Lunch is available for $15. Registration and ticket purchase is required by Thursday\, March 14\, 2019 at 4:00 p.m. Those wishing to attend the event without the lunch option do not need to purchase a ticket\, however\, registration is required by emailing jparr@moline.il.us.
X-ALT-DESC;FMTTYPE=text/html:Mayor\, Stephanie Acri\, will provide a State of the City address on Monday\, March 18\, 2019 at the TaxSlayer Center\, 1201 River Drive\, Moline. The presentation will take place at 12:00 p.m. in a joint meeting of the Moline Kiwanis and Rotary Clubs. The meeting is free and open to the public. Lunch is available for $15. Registration and ticket purchase is required by Thursday\, March 14\, 2019 at 4:00 p.m. Those wishing to attend the event without the lunch option do not need to purchase a ticket\, however\, registration is required by emailing jparr@moline.il.us.
LOCATION:TaxSlayer Center | 1201 River Dr. Moline\, IL
UID:e.2843.13810
SEQUENCE:3
DTSTAMP:20260422T201033Z
URL:https://member.quadcitieschamber.com/events/details/city-of-moline-state-of-the-city-address-13810
END:VEVENT

END:VCALENDAR
