BEGIN:VCALENDAR
VERSION:2.0
PRODID:-//ChamberMaster//Event Calendar 2.0//EN
METHOD:PUBLISH
X-PUBLISHED-TTL:P3D
REFRESH-INTERVAL:P3D
CALSCALE:GREGORIAN
BEGIN:VEVENT
DTSTART:20120502T180000Z
DTEND:20120502T183000Z
X-MICROSOFT-CDO-ALLDAYEVENT:FALSE
SUMMARY:City of Moline Washington Square Apartments Project Ribbon Cutting
DESCRIPTION:Please help celebrate the City of Moline Washington Square Apartments Project with a ribbon cutting on Wednesday\, May 2nd at 1:00pm.  The address is 316 – 17th Street in Moline\, centrally located in Moline Centre\, across the street from Bass Street Landing on 17th Street. Washington Square Apartments was built by Charles Deere in 1876 as a three story\, five unit Italianate row house in order to provide upscale housing for John Deere & Company executives.  Over time\, ownership changed hands and the five row houses were turned into 15 apartments.  The building remained vacant for nearly a decade prior to the acquisition in lieu of foreclosure by the City of Moline. The City of Moline\, through the Northwestern Illinois Neighborhood Stabilization Program Consortium\, received American Recovery Reinvestment Act (ARRA) Neighborhood Stabilization Program 2 dollars to acquire\, demolish\, rehab and construct foreclosed\, abandoned and dilapidated properties.  The City of Moline utilized a portion of these ARRA dollars to rehab the building into ten apartments.  In February of this year\, the City began leasing to applicants meeting the income restriction guidelines.  The City is currently accepting rental applications.  Several apartments have been leased to date.
X-ALT-DESC;FMTTYPE=text/html:<DIV><FONT face=Calibri><P style="MARGIN: 0in 0in 0pt" class=MsoNormal>Please help celebrate the City of Moline Washington Square Apartments Project with a ribbon cutting on Wednesday\, May 2<SUP>nd</SUP> at 1:00pm.<SPAN style="mso-spacerun: yes">&nbsp\; </SPAN>The address is 316 – 17<SUP>th</SUP> Street in Moline\, centrally located in Moline Centre\, across the street from Bass Street Landing on 17<SUP>th</SUP> Street.</P><P style="MARGIN: 0in 0in 0pt" class=MsoNormal><?xml:namespace prefix = o ns = "urn:schemas-microsoft-com:office:office" /><o:p>&nbsp\;</o:p></P><P style="MARGIN: 0in 0in 0pt" class=MsoNormal>Washington Square Apartments was built by Charles Deere in 1876 as a three story\, five unit Italianate row house in order to provide upscale housing for John Deere &amp\; Company executives.<SPAN style="mso-spacerun: yes">&nbsp\; </SPAN>Over time\, ownership changed hands and the five row houses were turned into 15 apartments.<SPAN style="mso-spacerun: yes">&nbsp\; </SPAN>The building remained vacant for nearly a decade prior to the acquisition in lieu of foreclosure by the City of Moline.</P><P style="MARGIN: 0in 0in 0pt" class=MsoNormal><o:p>&nbsp\;</o:p></P><P style="MARGIN: 0in 0in 0pt" class=MsoNormal>The City of Moline\, through the Northwestern Illinois Neighborhood Stabilization Program Consortium\, received American Recovery Reinvestment Act (ARRA) Neighborhood Stabilization Program 2 dollars to acquire\, demolish\, rehab and construct foreclosed\, abandoned and dilapidated properties.<SPAN style="mso-spacerun: yes">&nbsp\; </SPAN>The City of Moline utilized a portion of these ARRA dollars to rehab the building into ten apartments.<SPAN style="mso-spacerun: yes">&nbsp\; </SPAN>In February of this year\, the City began leasing to applicants meeting the income restriction guidelines.<SPAN style="mso-spacerun: yes">&nbsp\; </SPAN>The City is currently accepting rental applications.<SPAN style="mso-spacerun: yes">&nbsp\; </SPAN>Several apartments have been leased to date.</P><P style="MARGIN: 0in 0in 0pt" class=MsoNormal>&nbsp\;</P></FONT></DIV>
LOCATION:Washington Square Apartments316 17th Street Moline\, IL 61265
UID:e.2843.361
SEQUENCE:3
DTSTAMP:20260422T013628Z
URL:https://member.quadcitieschamber.com/events/details/city-of-moline-washington-square-apartments-project-ribbon-cutting-05-02-2012-361
END:VEVENT

END:VCALENDAR
