BEGIN:VCALENDAR
VERSION:2.0
PRODID:-//ChamberMaster//Event Calendar 2.0//EN
METHOD:PUBLISH
X-PUBLISHED-TTL:P3D
REFRESH-INTERVAL:P3D
CALSCALE:GREGORIAN
BEGIN:VEVENT
DTSTART:20130606T160000Z
DTEND:20130606T163000Z
X-MICROSOFT-CDO-ALLDAYEVENT:FALSE
SUMMARY:City of Silvis Deer Valley Villas Ribbon Cutting
DESCRIPTION:Please help the City of Silvis celebrate the Grand Opening of the Deer Valley Villas on Thursday\, June 6th at 11:00am – Located at 985 22nd Avenue\, Silvis (Close to Genesis Medical). The Deer Valley Villas include open floor plans\, abundant natural light\, and many luxurious touches will make you proud to call Deer Valley home. Deer Valley is also environmentally friendly\, since solar panels on the roof of the carports generate some of the electricity used to reduce overall costs of maintaining the complex. For more information\, please visit www.BarkerApartments.com.
X-ALT-DESC;FMTTYPE=text/html:<P style="MARGIN: 0in 0in 0pt" class=MsoNormal><FONT face=Calibri>Please help the City of Silvis celebrate the Grand Opening of the Deer Valley Villas on <B style="mso-bidi-font-weight: normal">Thursday\, June 6<SUP>th</SUP> at 11:00am</B> – Located at 985 22<SUP>nd</SUP> Avenue\, Silvis (Close to Genesis Medical).<?xml:namespace prefix = o ns = "urn:schemas-microsoft-com:office:office" /><o:p></o:p></FONT></P><P style="MARGIN: 0in 0in 0pt" class=MsoNormal><o:p><FONT face=Calibri>&nbsp\;</FONT></o:p></P><P style="MARGIN: 0in 0in 0pt" class=MsoNormal><SPAN style="mso-bidi-font-family: Arial"><FONT face=Calibri>The Deer Valley Villas include open floor plans\, abundant natural light\, and many luxurious touches will make you proud to call Deer Valley home. Deer Valley is also environmentally friendly\, since solar panels on the roof of the carports generate some of the electricity used to reduce overall costs of maintaining the complex.<o:p></o:p></FONT></SPAN></P><P style="MARGIN: 0in 0in 0pt" class=MsoNormal><SPAN style="mso-bidi-font-family: Arial"><o:p><FONT face=Calibri>&nbsp\;</FONT></o:p></SPAN></P><P style="MARGIN: 0in 0in 0pt" class=MsoNormal><SPAN style="mso-bidi-font-family: Arial"><FONT face=Calibri>For more information\, please visit </FONT><A href="http://www.BarkerApartments.com"><SPAN style="mso-bidi-font-family: Arial">www.BarkerApartments.com</SPAN></A><FONT face=Calibri>.<o:p></o:p></FONT></SPAN></P><DIV style="FONT-FAMILY: Arial">&nbsp\;</DIV>
LOCATION:Deer Valley Villas985 22nd Avenue\, Silvis Silvis\, IL
UID:e.2843.600
SEQUENCE:3
DTSTAMP:20260421T135105Z
URL:https://member.quadcitieschamber.com/events/details/city-of-silvis-deer-valley-villas-ribbon-cutting-06-06-2013-600
END:VEVENT

END:VCALENDAR
